BEGIN:VCALENDAR
VERSION:2.0
PRODID:-//Kreisgruppe Neu-Ulm - ECPv6.15.20//NONSGML v1.0//EN
CALSCALE:GREGORIAN
METHOD:PUBLISH
X-WR-CALNAME:Kreisgruppe Neu-Ulm
X-ORIGINAL-URL:https://jagd-neu-ulm.de
X-WR-CALDESC:Veranstaltungen für Kreisgruppe Neu-Ulm
REFRESH-INTERVAL;VALUE=DURATION:PT1H
X-Robots-Tag:noindex
X-PUBLISHED-TTL:PT1H
BEGIN:VTIMEZONE
TZID:UTC
BEGIN:STANDARD
TZOFFSETFROM:+0000
TZOFFSETTO:+0000
TZNAME:UTC
DTSTART:20250101T000000
END:STANDARD
END:VTIMEZONE
BEGIN:VEVENT
DTSTART;TZID=UTC:20260425T173000
DTEND;TZID=UTC:20260425T200000
DTSTAMP:20260424T124448
CREATED:20260119T064917Z
LAST-MODIFIED:20260119T064917Z
UID:1801-1777138200-1777147200@jagd-neu-ulm.de
SUMMARY:Öffentliche Hegeschau Neu-Ulm und Jahreshauptversammlung
DESCRIPTION:ab 17.30 Uhr Öffentliche Hegeschau Neu-Ulm und Jahreshauptversammlung der Kreisgruppe Neu-Ulm e.V. des Bayerischen Jagdverbandes e. V.\, \nOrt wird noch bekannt gegeben
URL:https://jagd-neu-ulm.de/event/oeffentliche-hegeschau-neu-ulm-und-jahreshauptversammlung/
CATEGORIES:Veranstaltungen
END:VEVENT
BEGIN:VEVENT
DTSTART;TZID=UTC:20260426T090000
DTEND;TZID=UTC:20260426T120000
DTSTAMP:20260424T124448
CREATED:20260119T085939Z
LAST-MODIFIED:20260119T085939Z
UID:1841-1777194000-1777204800@jagd-neu-ulm.de
SUMMARY:Tontaubenanlage - Flinte - Jäger
DESCRIPTION:Aufsicht: Blank/Kast
URL:https://jagd-neu-ulm.de/event/tontaubenanlage-flinte-jaeger-2/
LOCATION:Tontaubenstand Unterroth\, 48°11'41.9"N 10°11'19.4"E\, Unterroth\, 89299
CATEGORIES:Schießtermine Flinte
END:VEVENT
BEGIN:VEVENT
DTSTART;TZID=UTC:20260427T190000
DTEND;TZID=UTC:20260427T210000
DTSTAMP:20260424T124448
CREATED:20260119T093513Z
LAST-MODIFIED:20260119T093513Z
UID:1905-1777316400-1777323600@jagd-neu-ulm.de
SUMMARY:Montagsschießen Büchse 100 m
DESCRIPTION:
URL:https://jagd-neu-ulm.de/event/montagsschiessen-buechse-100-m-17/
LOCATION:Schützenheim Weissenhorn\, Metzgerweg 99\, Weißenhorn\, 89264
CATEGORIES:Schießtermine Kugel
END:VEVENT
END:VCALENDAR