BEGIN:VCALENDAR
VERSION:2.0
PRODID:-//Kreisgruppe Neu-Ulm - ECPv6.15.20//NONSGML v1.0//EN
CALSCALE:GREGORIAN
METHOD:PUBLISH
X-WR-CALNAME:Kreisgruppe Neu-Ulm
X-ORIGINAL-URL:https://jagd-neu-ulm.de
X-WR-CALDESC:Veranstaltungen für Kreisgruppe Neu-Ulm
REFRESH-INTERVAL;VALUE=DURATION:PT1H
X-Robots-Tag:noindex
X-PUBLISHED-TTL:PT1H
BEGIN:VTIMEZONE
TZID:UTC
BEGIN:STANDARD
TZOFFSETFROM:+0000
TZOFFSETTO:+0000
TZNAME:UTC
DTSTART:20250101T000000
END:STANDARD
END:VTIMEZONE
BEGIN:VEVENT
DTSTART;TZID=UTC:20261004T090000
DTEND;TZID=UTC:20261004T120000
DTSTAMP:20260424T212326
CREATED:20260119T092658Z
LAST-MODIFIED:20260119T092658Z
UID:1891-1791104400-1791115200@jagd-neu-ulm.de
SUMMARY:Tontaubenanlage - Schützen
DESCRIPTION:
URL:https://jagd-neu-ulm.de/event/tontaubenanlage-schuetzen-8/
LOCATION:Tontaubenstand Unterroth\, 48°11'41.9"N 10°11'19.4"E\, Unterroth\, 89299
CATEGORIES:Schießtermine Flinte
END:VEVENT
BEGIN:VEVENT
DTSTART;TZID=UTC:20261011T090000
DTEND;TZID=UTC:20261011T120000
DTSTAMP:20260424T212326
CREATED:20260119T092809Z
LAST-MODIFIED:20260119T092809Z
UID:1893-1791709200-1791720000@jagd-neu-ulm.de
SUMMARY:Tontaubenanlage - Jäger
DESCRIPTION:Aufsicht: Wiget/Kasper
URL:https://jagd-neu-ulm.de/event/tontaubenanlage-jaeger-6/
LOCATION:Tontaubenstand Unterroth\, 48°11'41.9"N 10°11'19.4"E\, Unterroth\, 89299
CATEGORIES:Schießtermine Flinte
END:VEVENT
BEGIN:VEVENT
DTSTART;TZID=UTC:20261012T190000
DTEND;TZID=UTC:20261012T210000
DTSTAMP:20260424T212326
CREATED:20260119T093903Z
LAST-MODIFIED:20260119T093903Z
UID:1913-1791831600-1791838800@jagd-neu-ulm.de
SUMMARY:Montagsschießen Büchse 100 m
DESCRIPTION:
URL:https://jagd-neu-ulm.de/event/montagsschiessen-buechse-100-m-21/
LOCATION:Schützenheim Weissenhorn\, Metzgerweg 99\, Weißenhorn\, 89264
CATEGORIES:Schießtermine Kugel
END:VEVENT
BEGIN:VEVENT
DTSTART;TZID=UTC:20261024T090000
DTEND;TZID=UTC:20261024T120000
DTSTAMP:20260424T212326
CREATED:20260119T092920Z
LAST-MODIFIED:20260119T092920Z
UID:1895-1792832400-1792843200@jagd-neu-ulm.de
SUMMARY:Tontaubenanlage - Aufräumarbeiten
DESCRIPTION:Schützen/Jäger/Bogen
URL:https://jagd-neu-ulm.de/event/tontaubenanlage-aufraeumarbeiten-2/
LOCATION:Tontaubenstand Unterroth\, 48°11'41.9"N 10°11'19.4"E\, Unterroth\, 89299
CATEGORIES:Schießtermine Flinte
END:VEVENT
BEGIN:VEVENT
DTSTART;TZID=UTC:20261026T190000
DTEND;TZID=UTC:20261026T210000
DTSTAMP:20260424T212326
CREATED:20260119T094612Z
LAST-MODIFIED:20260119T094612Z
UID:1927-1793041200-1793048400@jagd-neu-ulm.de
SUMMARY:Laufender Keiler
DESCRIPTION:
URL:https://jagd-neu-ulm.de/event/laufender-keiler-3/
LOCATION:Schützenheim Weissenhorn\, Metzgerweg 99\, Weißenhorn\, 89264
CATEGORIES:Schießtermine Kugel
END:VEVENT
BEGIN:VEVENT
DTSTART;TZID=UTC:20261031T000000
DTEND;TZID=UTC:20261107T000000
DTSTAMP:20260424T212326
CREATED:20260119T083548Z
LAST-MODIFIED:20260119T083548Z
UID:1821-1793404800-1794009600@jagd-neu-ulm.de
SUMMARY:Wildwoche
DESCRIPTION:Wildwoche mit Gaststätten des Landkreises
URL:https://jagd-neu-ulm.de/event/wildwoche/
CATEGORIES:Veranstaltungen
END:VEVENT
END:VCALENDAR