BEGIN:VCALENDAR
VERSION:2.0
PRODID:-//Kreisgruppe Neu-Ulm - ECPv6.15.20//NONSGML v1.0//EN
CALSCALE:GREGORIAN
METHOD:PUBLISH
X-WR-CALNAME:Kreisgruppe Neu-Ulm
X-ORIGINAL-URL:https://jagd-neu-ulm.de
X-WR-CALDESC:Veranstaltungen für Kreisgruppe Neu-Ulm
REFRESH-INTERVAL;VALUE=DURATION:PT1H
X-Robots-Tag:noindex
X-PUBLISHED-TTL:PT1H
BEGIN:VTIMEZONE
TZID:UTC
BEGIN:STANDARD
TZOFFSETFROM:+0000
TZOFFSETTO:+0000
TZNAME:UTC
DTSTART:20250101T000000
END:STANDARD
END:VTIMEZONE
BEGIN:VEVENT
DTSTART;TZID=UTC:20260802T090000
DTEND;TZID=UTC:20260802T120000
DTSTAMP:20260424T183023
CREATED:20260119T091846Z
LAST-MODIFIED:20260119T091846Z
UID:1874-1785661200-1785672000@jagd-neu-ulm.de
SUMMARY:Tontaubenanlage - Schützen
DESCRIPTION:
URL:https://jagd-neu-ulm.de/event/tontaubenanlage-schuetzen-4/
LOCATION:Tontaubenstand Unterroth\, 48°11'41.9"N 10°11'19.4"E\, Unterroth\, 89299
CATEGORIES:Schießtermine Flinte
END:VEVENT
BEGIN:VEVENT
DTSTART;TZID=UTC:20260809T090000
DTEND;TZID=UTC:20260809T120000
DTSTAMP:20260424T183023
CREATED:20260119T091949Z
LAST-MODIFIED:20260119T091949Z
UID:1877-1786266000-1786276800@jagd-neu-ulm.de
SUMMARY:Tontaubenanlage - Jäger
DESCRIPTION:Aufsicht: Stegmann/Ivenz
URL:https://jagd-neu-ulm.de/event/tontaubenanlage-jaeger-3/
LOCATION:Tontaubenstand Unterroth\, 48°11'41.9"N 10°11'19.4"E\, Unterroth\, 89299
CATEGORIES:Schießtermine Flinte
END:VEVENT
BEGIN:VEVENT
DTSTART;TZID=UTC:20260823T090000
DTEND;TZID=UTC:20260823T120000
DTSTAMP:20260424T183023
CREATED:20260119T092030Z
LAST-MODIFIED:20260119T092030Z
UID:1879-1787475600-1787486400@jagd-neu-ulm.de
SUMMARY:Tontaubenanlage - Schützen
DESCRIPTION:
URL:https://jagd-neu-ulm.de/event/tontaubenanlage-schuetzen-5/
LOCATION:Tontaubenstand Unterroth\, 48°11'41.9"N 10°11'19.4"E\, Unterroth\, 89299
CATEGORIES:Schießtermine Flinte
END:VEVENT
BEGIN:VEVENT
DTSTART;TZID=UTC:20260830T090000
DTEND;TZID=UTC:20260830T120000
DTSTAMP:20260424T183023
CREATED:20260119T092135Z
LAST-MODIFIED:20260119T092135Z
UID:1881-1788080400-1788091200@jagd-neu-ulm.de
SUMMARY:Tontaubenanlage - Jäger
DESCRIPTION:Aufsicht: Stuber/Heil
URL:https://jagd-neu-ulm.de/event/tontaubenanlage-jaeger-4/
LOCATION:Tontaubenstand Unterroth\, 48°11'41.9"N 10°11'19.4"E\, Unterroth\, 89299
CATEGORIES:Schießtermine Flinte
END:VEVENT
BEGIN:VEVENT
DTSTART;TZID=UTC:20260831T190000
DTEND;TZID=UTC:20260831T210000
DTSTAMP:20260424T183023
CREATED:20260119T094427Z
LAST-MODIFIED:20260119T094427Z
UID:1923-1788202800-1788210000@jagd-neu-ulm.de
SUMMARY:Laufender Keiler
DESCRIPTION:
URL:https://jagd-neu-ulm.de/event/laufender-keiler/
LOCATION:Schützenheim Weissenhorn\, Metzgerweg 99\, Weißenhorn\, 89264
CATEGORIES:Schießtermine Kugel
END:VEVENT
END:VCALENDAR