BEGIN:VCALENDAR
VERSION:2.0
PRODID:-//Kreisgruppe Neu-Ulm - ECPv6.15.20//NONSGML v1.0//EN
CALSCALE:GREGORIAN
METHOD:PUBLISH
X-ORIGINAL-URL:https://jagd-neu-ulm.de
X-WR-CALDESC:Veranstaltungen für Kreisgruppe Neu-Ulm
REFRESH-INTERVAL;VALUE=DURATION:PT1H
X-Robots-Tag:noindex
X-PUBLISHED-TTL:PT1H
BEGIN:VTIMEZONE
TZID:UTC
BEGIN:STANDARD
TZOFFSETFROM:+0000
TZOFFSETTO:+0000
TZNAME:UTC
DTSTART:20250101T000000
END:STANDARD
END:VTIMEZONE
BEGIN:VEVENT
DTSTART;TZID=UTC:20260703T000000
DTEND;TZID=UTC:20260703T000000
DTSTAMP:20260424T170609
CREATED:20260119T082818Z
LAST-MODIFIED:20260119T082818Z
UID:1811-1783036800-1783036800@jagd-neu-ulm.de
SUMMARY:Freundschaftsschiessen und Sommerfest
DESCRIPTION:Freundschaftsschiessen und Sommerfest mit der Schützengesellschaft Weißenhorn
URL:https://jagd-neu-ulm.de/event/freundschaftsschiessen-und-sommerfest/
LOCATION:Schützenheim Weissenhorn\, Metzgerweg 99\, Weißenhorn\, 89264
CATEGORIES:Veranstaltungen
END:VEVENT
BEGIN:VEVENT
DTSTART;TZID=UTC:20260705T090000
DTEND;TZID=UTC:20260705T120000
DTSTAMP:20260424T170609
CREATED:20260119T091621Z
LAST-MODIFIED:20260119T091621Z
UID:1868-1783242000-1783252800@jagd-neu-ulm.de
SUMMARY:Tontaubenanlage - Schützen
DESCRIPTION:
URL:https://jagd-neu-ulm.de/event/tontaubenanlage-schuetzen-2/
LOCATION:Tontaubenstand Unterroth\, 48°11'41.9"N 10°11'19.4"E\, Unterroth\, 89299
CATEGORIES:Schießtermine Flinte
END:VEVENT
BEGIN:VEVENT
DTSTART;TZID=UTC:20260717T180000
DTEND;TZID=UTC:20260717T210000
DTSTAMP:20260424T170609
CREATED:20260119T083016Z
LAST-MODIFIED:20260119T083016Z
UID:1813-1784311200-1784322000@jagd-neu-ulm.de
SUMMARY:Jägerstammtisch
DESCRIPTION:ab 18.00 Uhr Jägerstammtisch – ausgerichtet von den Jungen Jägern \nOrt wird noch bekannt gegeben
URL:https://jagd-neu-ulm.de/event/jaegerstammtisch-2/
CATEGORIES:Veranstaltungen
END:VEVENT
BEGIN:VEVENT
DTSTART;TZID=UTC:20260719T090000
DTEND;TZID=UTC:20260719T120000
DTSTAMP:20260424T170609
CREATED:20260119T091703Z
LAST-MODIFIED:20260119T091703Z
UID:1870-1784451600-1784462400@jagd-neu-ulm.de
SUMMARY:Tontaubenanlage - Schützen
DESCRIPTION:
URL:https://jagd-neu-ulm.de/event/tontaubenanlage-schuetzen-3/
LOCATION:Tontaubenstand Unterroth\, 48°11'41.9"N 10°11'19.4"E\, Unterroth\, 89299
CATEGORIES:Schießtermine Flinte
END:VEVENT
BEGIN:VEVENT
DTSTART;TZID=UTC:20260726T090000
DTEND;TZID=UTC:20260726T120000
DTSTAMP:20260424T170609
CREATED:20260119T091809Z
LAST-MODIFIED:20260119T091809Z
UID:1872-1785056400-1785067200@jagd-neu-ulm.de
SUMMARY:Tontaubenanlage - Jäger
DESCRIPTION:Aufsicht: Maier H./Stegmann
URL:https://jagd-neu-ulm.de/event/tontaubenanlage-jaeger-2/
LOCATION:Tontaubenstand Unterroth\, 48°11'41.9"N 10°11'19.4"E\, Unterroth\, 89299
CATEGORIES:Schießtermine Flinte
END:VEVENT
END:VCALENDAR