BEGIN:VCALENDAR
VERSION:2.0
PRODID:-//Kreisgruppe Neu-Ulm - ECPv6.15.20//NONSGML v1.0//EN
CALSCALE:GREGORIAN
METHOD:PUBLISH
X-ORIGINAL-URL:https://jagd-neu-ulm.de
X-WR-CALDESC:Veranstaltungen für Kreisgruppe Neu-Ulm
REFRESH-INTERVAL;VALUE=DURATION:PT1H
X-Robots-Tag:noindex
X-PUBLISHED-TTL:PT1H
BEGIN:VTIMEZONE
TZID:UTC
BEGIN:STANDARD
TZOFFSETFROM:+0000
TZOFFSETTO:+0000
TZNAME:UTC
DTSTART:20250101T000000
END:STANDARD
END:VTIMEZONE
BEGIN:VEVENT
DTSTART;TZID=UTC:20260607T090000
DTEND;TZID=UTC:20260607T120000
DTSTAMP:20260424T153922
CREATED:20260119T090412Z
LAST-MODIFIED:20260119T090940Z
UID:1849-1780822800-1780833600@jagd-neu-ulm.de
SUMMARY:Tontaubenanlage - Schützen
DESCRIPTION:
URL:https://jagd-neu-ulm.de/event/tontaubenanlage-flinte-schuetzen-4/
LOCATION:Tontaubenstand Unterroth\, 48°11'41.9"N 10°11'19.4"E\, Unterroth\, 89299
CATEGORIES:Schießtermine Flinte
END:VEVENT
BEGIN:VEVENT
DTSTART;TZID=UTC:20260608T190000
DTEND;TZID=UTC:20260608T210000
DTSTAMP:20260424T153922
CREATED:20260119T093757Z
LAST-MODIFIED:20260119T093757Z
UID:1911-1780945200-1780952400@jagd-neu-ulm.de
SUMMARY:Montagsschießen Büchse 100 m
DESCRIPTION:
URL:https://jagd-neu-ulm.de/event/montagsschiessen-buechse-100-m-20/
LOCATION:Schützenheim Weissenhorn\, Metzgerweg 99\, Weißenhorn\, 89264
CATEGORIES:Schießtermine Kugel
END:VEVENT
BEGIN:VEVENT
DTSTART;TZID=UTC:20260612T190000
DTEND;TZID=UTC:20260612T220000
DTSTAMP:20260424T153922
CREATED:20260119T065756Z
LAST-MODIFIED:20260119T065756Z
UID:1807-1781290800-1781301600@jagd-neu-ulm.de
SUMMARY:Lockjagd-Intensiv-Seminar (Teil 1 Reh\, Fuchs\, Ente)
DESCRIPTION:19:00 Uhr Lockjagd-Intensiv-Seminar (Teil 1 Reh\, Fuchs\, Ente) mit Nils Kradel (Lockschmiede) Ort: Schützenheim Weissenhorn\, \nTeilnahmegebühr 20\,- € \nAnmeldung bis 01.05.2026 per mail bei joern.krohn@jagd-neu-ulm.de
URL:https://jagd-neu-ulm.de/event/lockjagd-intensiv-seminar-teil-1-reh-fuchs-ente/
LOCATION:Schützenheim Weissenhorn\, Metzgerweg 99\, Weißenhorn\, 89264
CATEGORIES:Veranstaltungen
END:VEVENT
BEGIN:VEVENT
DTSTART;VALUE=DATE:20260613
DTEND;VALUE=DATE:20260614
DTSTAMP:20260424T153922
CREATED:20260119T082535Z
LAST-MODIFIED:20260119T082535Z
UID:1809-1781308800-1781395199@jagd-neu-ulm.de
SUMMARY:Lockjagd-Intensiv-Seminar (Teil 3 Krähenjagdseminar\, ganztags\, Theorie und anschliessend Lockbildaufbau\, Tarnung\, Lockereinsatz\, Schiesstraining)
DESCRIPTION:09:00 Uhr Lockjagd-Intensiv-Seminar (Teil 3 Krähenjagdseminar\, ganztags\, Theorie und anschliessend Lockbildaufbau\, Tarnung\, Lockereinsatz\, Schiesstraining) mit Nils Kradel (Lockschmiede)\, \nOrt: Schützenheim Weissenhorn \nTeilnahmegebühr 50\,- €. \nAnmeldung bis 01.05.2026 per mail bei joern.krohn@jagd-neu-ulm.de
URL:https://jagd-neu-ulm.de/event/lockjagd-intensiv-seminar-teil-3-kraehenjagdseminar-ganztags-theorie-und-anschliessend-lockbildaufbau-tarnung-lockereinsatz-schiesstraining/
LOCATION:Schützenheim Weissenhorn\, Metzgerweg 99\, Weißenhorn\, 89264
CATEGORIES:Veranstaltungen
END:VEVENT
BEGIN:VEVENT
DTSTART;TZID=UTC:20260614T090000
DTEND;TZID=UTC:20260614T120000
DTSTAMP:20260424T153922
CREATED:20260119T090514Z
LAST-MODIFIED:20260119T090736Z
UID:1851-1781427600-1781438400@jagd-neu-ulm.de
SUMMARY:Tontaubenanlage - Jäger
DESCRIPTION:Aufsicht: Bischof/Sturm
URL:https://jagd-neu-ulm.de/event/tontaubenanlage-flinte-jaeger-5/
LOCATION:Tontaubenstand Unterroth\, 48°11'41.9"N 10°11'19.4"E\, Unterroth\, 89299
CATEGORIES:Schießtermine Flinte
END:VEVENT
BEGIN:VEVENT
DTSTART;TZID=UTC:20260620T090000
DTEND;TZID=UTC:20260620T120000
DTSTAMP:20260424T153922
CREATED:20260119T091114Z
LAST-MODIFIED:20260119T091114Z
UID:1861-1781946000-1781956800@jagd-neu-ulm.de
SUMMARY:Tontaubenanlage - Aufräumarbeiten
DESCRIPTION:Schützen/Jäger/Bogen
URL:https://jagd-neu-ulm.de/event/tontaubenanlage-aufraeumarbeiten/
LOCATION:Tontaubenstand Unterroth\, 48°11'41.9"N 10°11'19.4"E\, Unterroth\, 89299
CATEGORIES:Schießtermine Flinte
END:VEVENT
BEGIN:VEVENT
DTSTART;TZID=UTC:20260621T090000
DTEND;TZID=UTC:20260621T120000
DTSTAMP:20260424T153922
CREATED:20260119T091419Z
LAST-MODIFIED:20260119T091419Z
UID:1864-1782032400-1782043200@jagd-neu-ulm.de
SUMMARY:Tontaubenanlage - Schützen
DESCRIPTION:
URL:https://jagd-neu-ulm.de/event/tontaubenanlage-schuetzen/
LOCATION:Tontaubenstand Unterroth\, 48°11'41.9"N 10°11'19.4"E\, Unterroth\, 89299
CATEGORIES:Schießtermine Flinte
END:VEVENT
BEGIN:VEVENT
DTSTART;TZID=UTC:20260628T090000
DTEND;TZID=UTC:20260628T120000
DTSTAMP:20260424T153922
CREATED:20260119T091535Z
LAST-MODIFIED:20260119T091535Z
UID:1866-1782637200-1782648000@jagd-neu-ulm.de
SUMMARY:Tontaubenanlage - Jäger
DESCRIPTION:Aufsicht: Sturm/Maier H.
URL:https://jagd-neu-ulm.de/event/tontaubenanlage-jaeger/
LOCATION:Tontaubenstand Unterroth\, 48°11'41.9"N 10°11'19.4"E\, Unterroth\, 89299
CATEGORIES:Schießtermine Flinte
END:VEVENT
END:VCALENDAR