BEGIN:VCALENDAR
VERSION:2.0
PRODID:-//Kreisgruppe Neu-Ulm - ECPv6.15.20//NONSGML v1.0//EN
CALSCALE:GREGORIAN
METHOD:PUBLISH
X-ORIGINAL-URL:https://jagd-neu-ulm.de
X-WR-CALDESC:Veranstaltungen für Kreisgruppe Neu-Ulm
REFRESH-INTERVAL;VALUE=DURATION:PT1H
X-Robots-Tag:noindex
X-PUBLISHED-TTL:PT1H
BEGIN:VTIMEZONE
TZID:UTC
BEGIN:STANDARD
TZOFFSETFROM:+0000
TZOFFSETTO:+0000
TZNAME:UTC
DTSTART:20250101T000000
END:STANDARD
END:VTIMEZONE
BEGIN:VEVENT
DTSTART;TZID=UTC:20260503T090000
DTEND;TZID=UTC:20260503T120000
DTSTAMP:20260424T141254
CREATED:20260119T090042Z
LAST-MODIFIED:20260119T090916Z
UID:1843-1777798800-1777809600@jagd-neu-ulm.de
SUMMARY:Tontaubenanlage - Schützen
DESCRIPTION:
URL:https://jagd-neu-ulm.de/event/tontaubenanlage-flinte-schuetzen-3/
LOCATION:Tontaubenstand Unterroth\, 48°11'41.9"N 10°11'19.4"E\, Unterroth\, 89299
CATEGORIES:Schießtermine Flinte
END:VEVENT
BEGIN:VEVENT
DTSTART;TZID=UTC:20260505T170000
DTEND;TZID=UTC:20260505T210000
DTSTAMP:20260424T141254
CREATED:20260119T065157Z
LAST-MODIFIED:20260119T065157Z
UID:1803-1778000400-1778014800@jagd-neu-ulm.de
SUMMARY:Zerwirkkurs
DESCRIPTION:17:00 Uhr Zerwirkkurs Metzgerei Josef Klein\, Hauptstrasse 63 89278 Nersingen Teilnahmegebühr 20\,-€ \nAnmeldung bitte unter joern.krohn@jagd-neu-ulm.de
URL:https://jagd-neu-ulm.de/event/zerwirkkurs/
LOCATION:Hauptstraße 63\, 89278 Nersingen\, Hauptstraße 63\, Nersingen\, 89278\, Deutschland
CATEGORIES:Veranstaltungen
END:VEVENT
BEGIN:VEVENT
DTSTART;TZID=UTC:20260511T190000
DTEND;TZID=UTC:20260511T210000
DTSTAMP:20260424T141254
CREATED:20260119T093614Z
LAST-MODIFIED:20260119T093614Z
UID:1907-1778526000-1778533200@jagd-neu-ulm.de
SUMMARY:Montagsschießen Büchse 100 m
DESCRIPTION:
URL:https://jagd-neu-ulm.de/event/montagsschiessen-buechse-100-m-18/
LOCATION:Schützenheim Weissenhorn\, Metzgerweg 99\, Weißenhorn\, 89264
CATEGORIES:Schießtermine Kugel
END:VEVENT
BEGIN:VEVENT
DTSTART;TZID=UTC:20260517T090000
DTEND;TZID=UTC:20260517T120000
DTSTAMP:20260424T141254
CREATED:20260119T090159Z
LAST-MODIFIED:20260119T090159Z
UID:1845-1779008400-1779019200@jagd-neu-ulm.de
SUMMARY:Tontaubenanlage - Flinte - Jäger
DESCRIPTION:Aufsicht: Blank/Sauter
URL:https://jagd-neu-ulm.de/event/tontaubenanlage-flinte-jaeger-3/
LOCATION:Tontaubenstand Unterroth\, 48°11'41.9"N 10°11'19.4"E\, Unterroth\, 89299
CATEGORIES:Schießtermine Flinte
END:VEVENT
BEGIN:VEVENT
DTSTART;TZID=UTC:20260517T100000
DTEND;TZID=UTC:20260517T120000
DTSTAMP:20260424T141254
CREATED:20260119T065330Z
LAST-MODIFIED:20260119T065330Z
UID:1805-1779012000-1779019200@jagd-neu-ulm.de
SUMMARY:Jägerfrühschoppen
DESCRIPTION:ab 10.00 Uhr Jägerfrühschoppen – ausgerichtet von den Jungen Jägern \nOrt wird noch bekannt gegeben
URL:https://jagd-neu-ulm.de/event/jaegerfruehschoppen/
CATEGORIES:Veranstaltungen
END:VEVENT
BEGIN:VEVENT
DTSTART;TZID=UTC:20260525T190000
DTEND;TZID=UTC:20260525T210000
DTSTAMP:20260424T141254
CREATED:20260119T093708Z
LAST-MODIFIED:20260119T093708Z
UID:1909-1779735600-1779742800@jagd-neu-ulm.de
SUMMARY:Montagsschießen Büchse 100 m
DESCRIPTION:
URL:https://jagd-neu-ulm.de/event/montagsschiessen-buechse-100-m-19/
LOCATION:Schützenheim Weissenhorn\, Metzgerweg 99\, Weißenhorn\, 89264
CATEGORIES:Schießtermine Kugel
END:VEVENT
BEGIN:VEVENT
DTSTART;TZID=UTC:20260531T090000
DTEND;TZID=UTC:20260531T120000
DTSTAMP:20260424T141254
CREATED:20260119T090306Z
LAST-MODIFIED:20260119T090927Z
UID:1847-1780218000-1780228800@jagd-neu-ulm.de
SUMMARY:Tontaubenanlage - Jäger
DESCRIPTION:Aufsicht: Sauter/Bischof
URL:https://jagd-neu-ulm.de/event/tontaubenanlage-flinte-jaeger-4/
LOCATION:Tontaubenstand Unterroth\, 48°11'41.9"N 10°11'19.4"E\, Unterroth\, 89299
CATEGORIES:Schießtermine Flinte
END:VEVENT
END:VCALENDAR