BEGIN:VCALENDAR
VERSION:2.0
PRODID:-//Kreisgruppe Neu-Ulm - ECPv6.15.20//NONSGML v1.0//EN
CALSCALE:GREGORIAN
METHOD:PUBLISH
X-WR-CALNAME:Kreisgruppe Neu-Ulm
X-ORIGINAL-URL:https://jagd-neu-ulm.de
X-WR-CALDESC:Veranstaltungen für Kreisgruppe Neu-Ulm
REFRESH-INTERVAL;VALUE=DURATION:PT1H
X-Robots-Tag:noindex
X-PUBLISHED-TTL:PT1H
BEGIN:VTIMEZONE
TZID:UTC
BEGIN:STANDARD
TZOFFSETFROM:+0000
TZOFFSETTO:+0000
TZNAME:UTC
DTSTART:20240101T000000
END:STANDARD
END:VTIMEZONE
BEGIN:VEVENT
DTSTART;TZID=UTC:20251005T090000
DTEND;TZID=UTC:20251005T120000
DTSTAMP:20260424T213058
CREATED:20250228T101114Z
LAST-MODIFIED:20250228T101114Z
UID:1439-1759654800-1759665600@jagd-neu-ulm.de
SUMMARY:Tontauben Jäger
DESCRIPTION:Tontauben Jäger \nAufsicht: Graf/Nonnenmacher
URL:https://jagd-neu-ulm.de/event/tontauben-jaeger-17/
LOCATION:Tontaubenstand Unterroth\, 48°11'41.9"N 10°11'19.4"E\, Unterroth\, 89299
CATEGORIES:Schießtermine Flinte
END:VEVENT
BEGIN:VEVENT
DTSTART;TZID=UTC:20251006T170000
DTEND;TZID=UTC:20251006T210000
DTSTAMP:20260424T213058
CREATED:20250927T133721Z
LAST-MODIFIED:20250927T134517Z
UID:1709-1759770000-1759784400@jagd-neu-ulm.de
SUMMARY:Schulung Trichinenprobennahme
DESCRIPTION:Liebe Jägerinnen\, liebe Jäger\, \nzur fachgerechten Entnahme von Wildbretproben für die Trichinenuntersuchung bieten wir gemeinsam mit dem Landratsamt Neu-Ulm \neine Schulung an: \n\n     Beginn: 06.10.2025\, 17:00 Uhr\n      Ort: Schützenheim Weissenhorn\, Metzgerweg 99\, Ausbildungsraum Kreisgruppe Neu-Ulm\n     ab ca. 17:30 Uhr: Schulung durch das Landratsamt\n     ca. 19:30 Uhr: Verlegung nach Weißenhorn zum Staatsforst\, praktische Schulung in der Wildkammer\n\nWir bitten euch um Anmeldung bei Frau Dr. Lochbrunner martina.lochbrunner(at)landkreis-nu.de sowie auch an mich joern.krohn(at)jagd-neu-ulm.de \nTeilnahmegebühr: 15\,-€ zu entrichten vor Schulungsbeginn. Bitte passend dabei haben 🙂 \nJeder Teilnehmer erhält eine Teilnahmebescheinigung am Ende der Schulung durch das Landratsamt. \nAchtung: Anmeldeschluss ist der 03.10.2025 \nMit Waidmannsheil\nJörn-Peter Krohn\n—\nBJV Kreisgruppe Neu-Ulm e.V. \nKreisgruppe Neu-Ulm\nJoern-Peter Krohn\, Thomas Stepanski\, Prof. Dr. Dr. Hilmar Brunner\, Rainer Marka\, Jannik Lindner\, Jens Friedrich\, Patrick Haas
URL:https://jagd-neu-ulm.de/event/schulung-trichinenprobennahme/
LOCATION:Schützenheim Weissenhorn\, Metzgerweg 99\, Weißenhorn\, 89264
CATEGORIES:Veranstaltungen
END:VEVENT
BEGIN:VEVENT
DTSTART;TZID=UTC:20251009T190000
DTEND;TZID=UTC:20251009T210000
DTSTAMP:20260424T213058
CREATED:20250925T114339Z
LAST-MODIFIED:20250925T114339Z
UID:1698-1760036400-1760043600@jagd-neu-ulm.de
SUMMARY:Info-Abend Hunde-Vorbereitungskurs 2026
DESCRIPTION:Liebe Jägerinnen\, liebe Jäger\, \nnach der Prüfung ist vor der Prüfung. In diesem Sinne veranstalten Tanja Kastler und Christoph Gröner eine Info-Veranstaltung für den nächsten Hunde-Vorbereitungskurs  \nim Schützenheim Weissenhorn\, Ausbildungsraum Kreisgruppe Neu-Ulm \nTermin 09.10.2025 beginnend um 19:00 Uhr \nWer sich bereits einen Platz sichern möchte\, sollte gleich beiliegendes Formular ausfüllen und vor Ort abgeben. \nMit Waidmannsheil \nJörn
URL:https://jagd-neu-ulm.de/event/info-abend-hunde-vorbereitungskurs-2026/
LOCATION:Schützenheim Weissenhorn\, Metzgerweg 99\, Weißenhorn\, 89264
CATEGORIES:Hundeausbildung
ATTACH;FMTTYPE=image/jpeg:https://jagd-neu-ulm.de/wp-content/uploads/2025/09/Kalle.jpg
END:VEVENT
BEGIN:VEVENT
DTSTART;TZID=UTC:20251012T090000
DTEND;TZID=UTC:20251012T120000
DTSTAMP:20260424T213058
CREATED:20250228T101214Z
LAST-MODIFIED:20250228T101214Z
UID:1441-1760259600-1760270400@jagd-neu-ulm.de
SUMMARY:Tontauben Schützen
DESCRIPTION:Tontauben Schützen
URL:https://jagd-neu-ulm.de/event/tontauben-schuetzen-19/
LOCATION:Tontaubenstand Unterroth\, 48°11'41.9"N 10°11'19.4"E\, Unterroth\, 89299
CATEGORIES:Schießtermine Flinte
END:VEVENT
BEGIN:VEVENT
DTSTART;TZID=UTC:20251013T190000
DTEND;TZID=UTC:20251013T210000
DTSTAMP:20260424T213058
CREATED:20250228T093826Z
LAST-MODIFIED:20250228T093826Z
UID:1390-1760382000-1760389200@jagd-neu-ulm.de
SUMMARY:Montagsschießen Büchse 100 m
DESCRIPTION:Montagsschießen Büchse 100 m
URL:https://jagd-neu-ulm.de/event/montagsschiessen-buechse-100-m-9/
LOCATION:Schützenheim Weissenhorn\, Metzgerweg 99\, Weißenhorn\, 89264
CATEGORIES:Schießtermine Kugel
END:VEVENT
BEGIN:VEVENT
DTSTART;TZID=UTC:20251025T090000
DTEND;TZID=UTC:20251025T120000
DTSTAMP:20260424T213058
CREATED:20250228T101321Z
LAST-MODIFIED:20250228T101321Z
UID:1443-1761382800-1761393600@jagd-neu-ulm.de
SUMMARY:Aufräumen - Alle
DESCRIPTION:Aufräumen – Alle
URL:https://jagd-neu-ulm.de/event/aufraeumen-alle-5/
LOCATION:Tontaubenstand Unterroth\, 48°11'41.9"N 10°11'19.4"E\, Unterroth\, 89299
CATEGORIES:Schießtermine Flinte
END:VEVENT
BEGIN:VEVENT
DTSTART;TZID=UTC:20251027T190000
DTEND;TZID=UTC:20251027T210000
DTSTAMP:20260424T213058
CREATED:20250228T093949Z
LAST-MODIFIED:20250228T093949Z
UID:1392-1761591600-1761598800@jagd-neu-ulm.de
SUMMARY:Laufender Keiler / Erwerb Keilernadel
DESCRIPTION:Laufender Keiler / Erwerb Keilernadel
URL:https://jagd-neu-ulm.de/event/laufender-keiler-erwerb-keilernadel-6/
LOCATION:Schützenheim Weissenhorn\, Metzgerweg 99\, Weißenhorn\, 89264
CATEGORIES:Schießtermine Kugel
END:VEVENT
END:VCALENDAR