BEGIN:VCALENDAR
VERSION:2.0
PRODID:-//Kreisgruppe Neu-Ulm - ECPv6.15.20//NONSGML v1.0//EN
CALSCALE:GREGORIAN
METHOD:PUBLISH
X-ORIGINAL-URL:https://jagd-neu-ulm.de
X-WR-CALDESC:Veranstaltungen für Kreisgruppe Neu-Ulm
REFRESH-INTERVAL;VALUE=DURATION:PT1H
X-Robots-Tag:noindex
X-PUBLISHED-TTL:PT1H
BEGIN:VTIMEZONE
TZID:UTC
BEGIN:STANDARD
TZOFFSETFROM:+0000
TZOFFSETTO:+0000
TZNAME:UTC
DTSTART:20240101T000000
END:STANDARD
END:VTIMEZONE
BEGIN:VEVENT
DTSTART;TZID=UTC:20250901T190000
DTEND;TZID=UTC:20250901T210000
DTSTAMP:20260424T230548
CREATED:20250228T093332Z
LAST-MODIFIED:20250228T093332Z
UID:1384-1756753200-1756760400@jagd-neu-ulm.de
SUMMARY:Laufender Keiler / Erwerb Keilernadel
DESCRIPTION:Laufender Keiler / Erwerb Keilernadel
URL:https://jagd-neu-ulm.de/event/laufender-keiler-erwerb-keilernadel-4/
LOCATION:Schützenheim Weissenhorn\, Metzgerweg 99\, Weißenhorn\, 89264
CATEGORIES:Schießtermine Kugel
END:VEVENT
BEGIN:VEVENT
DTSTART;TZID=UTC:20250905T091500
DTEND;TZID=UTC:20250905T130000
DTSTAMP:20260424T230548
CREATED:20250815T163819Z
LAST-MODIFIED:20250815T163819Z
UID:1630-1757063700-1757077200@jagd-neu-ulm.de
SUMMARY:Besichtigung bei der Firma Krieghoff Ulm
DESCRIPTION:Herzliche Einladung\nzur Betriebsbesichtigung bei der Firma Krieghoff in Ulm \nLiebe Jagdfreundinnen und Jagdfreunde\, \nich freue mich sehr\, euch zu einer ganz besonderen Veranstaltung einladen zu dürfen:\nAm Freitag\, den 05.09.2025\, haben wir die Möglichkeit\, die traditionsreiche Waffenmanufaktur Krieghoff in Ulm zu besichtigen und spannende Einblicke in Handwerkskunst\, Technik und Geschichte des Hauses zu erhalten. \n📅 Datum: Freitag\, 05.09.2025\n🕘 Beginn: 9:15 Uhr (bitte pünktlich)\n📍 Treffpunkt: Boschstraße 22\, 89079 Ulm\n⏳ Dauer: ca. 2\,5 Stunden \nNach der Führung möchten wir den Vormittag gemütlich ausklingen lassen – bei einem gemeinsamen Mittagessen oder Snack in Seebergers Genusswelt (Hans-Lorenser-Str. 20\, 89079 Ulm). Dort können wir in entspannter Atmosphäre plaudern und das Erlebte Revue passieren lassen. \nDamit wir gut planen können\, gebt mir bitte bis spätestens 29.08.2025 eine kurze Rückmeldung: \n\nOb ihr an der Führung teilnehmt\nUnd ob ihr auch beim Mittagessen dabei seid\n\nIch freue mich auf einen interessanten Vormittag\, viele gute Gespräche und natürlich auf euer zahlreiches Kommen! \nHerzlichen Dank und Waidmannsheil\nEure\nHermine Haas
URL:https://jagd-neu-ulm.de/event/besichtigung-bei-der-firma-krieghoff-ulm/
LOCATION:Boschstraße 22\, 89079 Ulm\, Boschstraße\, 22\, Ulm\, 89079\, Germany
CATEGORIES:Veranstaltungen
ATTACH;FMTTYPE=image/jpeg:https://jagd-neu-ulm.de/wp-content/uploads/2025/08/Krieghoff.jpg
END:VEVENT
BEGIN:VEVENT
DTSTART;TZID=UTC:20250914T090000
DTEND;TZID=UTC:20250914T120000
DTSTAMP:20260424T230548
CREATED:20250228T100526Z
LAST-MODIFIED:20250228T100526Z
UID:1431-1757840400-1757851200@jagd-neu-ulm.de
SUMMARY:Tontauben Schützen
DESCRIPTION:Tontauben Schützen
URL:https://jagd-neu-ulm.de/event/tontauben-schuetzen-17/
LOCATION:Tontaubenstand Unterroth\, 48°11'41.9"N 10°11'19.4"E\, Unterroth\, 89299
CATEGORIES:Schießtermine Flinte
END:VEVENT
BEGIN:VEVENT
DTSTART;TZID=UTC:20250914T090000
DTEND;TZID=UTC:20250914T130000
DTSTAMP:20260424T230548
CREATED:20250902T053734Z
LAST-MODIFIED:20250902T054549Z
UID:1647-1757840400-1757854800@jagd-neu-ulm.de
SUMMARY:Freundschaftsschiessen 14.09.2025 Günzburg/Krumbach/Neu-Ulm
DESCRIPTION:Liebe Jägerinnen\, liebe Jäger\, \ndie Urlaubszeit ist nahezu vorüber und ich hoffe\, ihr habt die Zeit alle gut überstanden. \nChristina und ich möchte euch nochmal an unser alljährliches Freundschaftsschiessen in Kemnath am 14.09.2025 09:00-15:00 erinnern und hierzu einladen. Eine Anfahrtskizze liegt bei. \nBitte plant euch den Termin fest ein. \nMit Waidmannsheil \nChristina und Jörn
URL:https://jagd-neu-ulm.de/event/freundschaftsschiessen-14-09-2025-guenzburg-krumbach-neu-ulm/
LOCATION:89349 Burtenbach\, Burtenbach\, 89349
CATEGORIES:Schießtermine Flinte
END:VEVENT
BEGIN:VEVENT
DTSTART;TZID=UTC:20250914T090000
DTEND;TZID=UTC:20250914T150000
DTSTAMP:20260424T230548
CREATED:20250228T100728Z
LAST-MODIFIED:20250228T100728Z
UID:1433-1757840400-1757862000@jagd-neu-ulm.de
SUMMARY:Freundschaftsschießen Kemnath
DESCRIPTION:Freundschaftsschießen Kemnath
URL:https://jagd-neu-ulm.de/event/freundschaftsschiessen-kemnath/
LOCATION:Tontaubenstand Unterroth\, 48°11'41.9"N 10°11'19.4"E\, Unterroth\, 89299
CATEGORIES:Schießtermine Flinte
END:VEVENT
BEGIN:VEVENT
DTSTART;TZID=UTC:20250915T190000
DTEND;TZID=UTC:20250915T210000
DTSTAMP:20260424T230548
CREATED:20250228T093508Z
LAST-MODIFIED:20250228T093508Z
UID:1386-1757962800-1757970000@jagd-neu-ulm.de
SUMMARY:Kurzwaffenschießen für Jäger 25 m
DESCRIPTION:Kurzwaffenschießen für Jäger 25 m
URL:https://jagd-neu-ulm.de/event/kurzwaffenschiessen-fuer-jaeger-25-m-3/
LOCATION:Schützenheim Weissenhorn\, Metzgerweg 99\, Weißenhorn\, 89264
CATEGORIES:Schießtermine Kugel
END:VEVENT
BEGIN:VEVENT
DTSTART;TZID=UTC:20250921T090000
DTEND;TZID=UTC:20250921T120000
DTSTAMP:20260424T230548
CREATED:20250228T100840Z
LAST-MODIFIED:20250228T100840Z
UID:1435-1758445200-1758456000@jagd-neu-ulm.de
SUMMARY:Tontauben Jäger
DESCRIPTION:Tontauben Jäger \nAufsicht: Sauter/Nonnenmacher
URL:https://jagd-neu-ulm.de/event/tontauben-jaeger-16/
LOCATION:Tontaubenstand Unterroth\, 48°11'41.9"N 10°11'19.4"E\, Unterroth\, 89299
CATEGORIES:Schießtermine Flinte
END:VEVENT
BEGIN:VEVENT
DTSTART;TZID=UTC:20250927T090000
DTEND;TZID=UTC:20250927T160000
DTSTAMP:20260424T230548
CREATED:20250902T064017Z
LAST-MODIFIED:20250925T114623Z
UID:1674-1758963600-1758988800@jagd-neu-ulm.de
SUMMARY:Kurs zur Fallenjagd
DESCRIPTION:Liebe Jägerinnen\, liebe Jäger\, \nMichael und ich möchten euch einen neuen Fallenkurs anbieten. Die Kenntnis in der Fallenjagd ist umso wichtiger\, als dass  wir damit die Bemühungen der Niederwildhege\, insbesondere des Flugwilds\, unterstützen wollen. \nUnser Ausbildungsraum fasst max. 40 Personen (dann wirds aber auch schon wirklich eng :-)). Abzgl. der 8 Jagdschüler stehen somit 32 Plätze zur Verfügung. \nTermin 27.09.2025  \nOrt Ausbildungsraum der Jagdschule\, Metzgerweg 99\, im Schützenheim der Königlich priv. Schützengesellschaft Weissenhorn \nUhrzeit 09:00 – ca. 16:00 Uhr \nReferent: Michael Sellerer \nTeilnahmegebühr 25\,-€/Teilnehmer für die Kreisgruppe (ausser Jagdschüler)  \nJeder Kursteilnehmer (ausser Jagdschüler) erhält eine Urkunde als Teilnahmebestätigung \nWir freuen uns auf eine rege Teilnahme. \nMit Waidmannsheil \nJörn-Peter Krohn
URL:https://jagd-neu-ulm.de/event/kurs-zur-fallenjagd/
LOCATION:Schützenheim Weissenhorn\, Metzgerweg 99\, Weißenhorn\, 89264
CATEGORIES:Veranstaltungen
END:VEVENT
BEGIN:VEVENT
DTSTART;TZID=UTC:20250928T090000
DTEND;TZID=UTC:20250928T120000
DTSTAMP:20260424T230548
CREATED:20250228T101005Z
LAST-MODIFIED:20250228T101005Z
UID:1437-1759050000-1759060800@jagd-neu-ulm.de
SUMMARY:Tontauben Schützen
DESCRIPTION:Tontauben Schützen
URL:https://jagd-neu-ulm.de/event/tontauben-schuetzen-18/
LOCATION:Tontaubenstand Unterroth\, 48°11'41.9"N 10°11'19.4"E\, Unterroth\, 89299
CATEGORIES:Schießtermine Flinte
END:VEVENT
BEGIN:VEVENT
DTSTART;TZID=UTC:20250929T190000
DTEND;TZID=UTC:20250929T210000
DTSTAMP:20260424T230548
CREATED:20250228T093652Z
LAST-MODIFIED:20250228T093652Z
UID:1388-1759172400-1759179600@jagd-neu-ulm.de
SUMMARY:Laufender Keiler / Erwerb Keilernadel
DESCRIPTION:Laufender Keiler / Erwerb Keilernadel
URL:https://jagd-neu-ulm.de/event/laufender-keiler-erwerb-keilernadel-5/
LOCATION:Schützenheim Weissenhorn\, Metzgerweg 99\, Weißenhorn\, 89264
CATEGORIES:Schießtermine Kugel
END:VEVENT
END:VCALENDAR