BEGIN:VCALENDAR
VERSION:2.0
PRODID:-//Kreisgruppe Neu-Ulm - ECPv6.15.20//NONSGML v1.0//EN
CALSCALE:GREGORIAN
METHOD:PUBLISH
X-ORIGINAL-URL:https://jagd-neu-ulm.de
X-WR-CALDESC:Veranstaltungen für Kreisgruppe Neu-Ulm
REFRESH-INTERVAL;VALUE=DURATION:PT1H
X-Robots-Tag:noindex
X-PUBLISHED-TTL:PT1H
BEGIN:VTIMEZONE
TZID:UTC
BEGIN:STANDARD
TZOFFSETFROM:+0000
TZOFFSETTO:+0000
TZNAME:UTC
DTSTART:20230101T000000
END:STANDARD
END:VTIMEZONE
BEGIN:VEVENT
DTSTART;TZID=UTC:20241103T103000
DTEND;TZID=UTC:20241103T113000
DTSTAMP:20260425T143601
CREATED:20241009T120132Z
LAST-MODIFIED:20241009T120132Z
UID:1223-1730629800-1730633400@jagd-neu-ulm.de
SUMMARY:Hubertusmesse zum 60-jährigen Gründungsjubiläum
DESCRIPTION:Hubertusmesse zum 60-jährigen Gründungsjubiläum der Jagdhornbläsergruppe Neu-Ulm Süd\nam Sonntag\, den 3 November 2024 um 10:30 Uhr in der Pfarrkirche St. Peter un Paul Osterberg
URL:https://jagd-neu-ulm.de/event/hubertusmesse-zum-60-jaehrigen-gruendungsjubilaeum/
CATEGORIES:Veranstaltungen
END:VEVENT
BEGIN:VEVENT
DTSTART;TZID=UTC:20241104T190000
DTEND;TZID=UTC:20241104T210000
DTSTAMP:20260425T143601
CREATED:20240421T150739Z
LAST-MODIFIED:20240421T150739Z
UID:963-1730746800-1730754000@jagd-neu-ulm.de
SUMMARY:Laufender Keiler / Erwerb Keilernadel
DESCRIPTION:Laufender Keiler / Erwerb Keilernadel
URL:https://jagd-neu-ulm.de/event/laufender-keiler-erwerb-keilernadel-3/
LOCATION:Schützenheim Weissenhorn\, Metzgerweg 99\, Weißenhorn\, 89264
CATEGORIES:Schießtermine Kugel
END:VEVENT
BEGIN:VEVENT
DTSTART;VALUE=DATE:20241109
DTEND;VALUE=DATE:20241110
DTSTAMP:20260425T143601
CREATED:20240301T071518Z
LAST-MODIFIED:20240301T071518Z
UID:904-1731110400-1731196799@jagd-neu-ulm.de
SUMMARY:Hubertusmesse und -feier der Kreisgruppe
DESCRIPTION:Hubertusmesse und -feier der Kreisgruppe
URL:https://jagd-neu-ulm.de/event/hubertusmesse-und-feier-der-kreisgruppe/
CATEGORIES:Veranstaltungen
END:VEVENT
BEGIN:VEVENT
DTSTART;TZID=UTC:20241118T190000
DTEND;TZID=UTC:20241118T210000
DTSTAMP:20260425T143601
CREATED:20240421T150840Z
LAST-MODIFIED:20240421T150840Z
UID:965-1731956400-1731963600@jagd-neu-ulm.de
SUMMARY:Montagsschießen Büchse 100 m
DESCRIPTION:Montagsschießen Büchse 100 m
URL:https://jagd-neu-ulm.de/event/montagsschiessen-buechse-100-m-2/
LOCATION:Schützenheim Weissenhorn\, Metzgerweg 99\, Weißenhorn\, 89264
CATEGORIES:Schießtermine Kugel
END:VEVENT
END:VCALENDAR