BEGIN:VCALENDAR
VERSION:2.0
PRODID:-//Kreisgruppe Neu-Ulm - ECPv6.15.20//NONSGML v1.0//EN
CALSCALE:GREGORIAN
METHOD:PUBLISH
X-WR-CALNAME:Kreisgruppe Neu-Ulm
X-ORIGINAL-URL:https://jagd-neu-ulm.de
X-WR-CALDESC:Veranstaltungen für Kreisgruppe Neu-Ulm
REFRESH-INTERVAL;VALUE=DURATION:PT1H
X-Robots-Tag:noindex
X-PUBLISHED-TTL:PT1H
BEGIN:VTIMEZONE
TZID:UTC
BEGIN:STANDARD
TZOFFSETFROM:+0000
TZOFFSETTO:+0000
TZNAME:UTC
DTSTART:20230101T000000
END:STANDARD
END:VTIMEZONE
BEGIN:VEVENT
DTSTART;TZID=UTC:20240901T090000
DTEND;TZID=UTC:20240901T120000
DTSTAMP:20260425T173157
CREATED:20240421T152917Z
LAST-MODIFIED:20240421T152917Z
UID:995-1725181200-1725192000@jagd-neu-ulm.de
SUMMARY:Tontauben Schützen
DESCRIPTION:Tontauben Schützen
URL:https://jagd-neu-ulm.de/event/tontauben-schuetzen-5/
LOCATION:Tontaubenstand Unterroth\, 48°11'41.9"N 10°11'19.4"E\, Unterroth\, 89299
CATEGORIES:Schießtermine Flinte
END:VEVENT
BEGIN:VEVENT
DTSTART;TZID=UTC:20240902T190000
DTEND;TZID=UTC:20240902T210000
DTSTAMP:20260425T173157
CREATED:20240421T150308Z
LAST-MODIFIED:20240421T150308Z
UID:954-1725303600-1725310800@jagd-neu-ulm.de
SUMMARY:Laufender Keiler / Erwerb Keilernadel
DESCRIPTION:Laufender Keiler / Erwerb Keilernadel
URL:https://jagd-neu-ulm.de/event/laufender-keiler-erwerb-keilernadel/
LOCATION:Schützenheim Weissenhorn\, Metzgerweg 99\, Weißenhorn\, 89264
CATEGORIES:Schießtermine Kugel
END:VEVENT
BEGIN:VEVENT
DTSTART;TZID=UTC:20240908T090000
DTEND;TZID=UTC:20240908T120000
DTSTAMP:20260425T173157
CREATED:20240421T152959Z
LAST-MODIFIED:20240421T152959Z
UID:997-1725786000-1725796800@jagd-neu-ulm.de
SUMMARY:Tontauben Jäger
DESCRIPTION:Tontauben Jäger
URL:https://jagd-neu-ulm.de/event/tontauben-jaeger-6/
LOCATION:Tontaubenstand Unterroth\, 48°11'41.9"N 10°11'19.4"E\, Unterroth\, 89299
CATEGORIES:Schießtermine Flinte
END:VEVENT
BEGIN:VEVENT
DTSTART;TZID=UTC:20240913T190000
DTEND;TZID=UTC:20240913T220000
DTSTAMP:20260425T173157
CREATED:20240301T071417Z
LAST-MODIFIED:20240301T071438Z
UID:901-1726254000-1726264800@jagd-neu-ulm.de
SUMMARY:Vortrag des Freundeskreises der Ulmer und Neu-Ulmer Jägervereine\, „Hochwertige Optik für das Sehen bei Tag und Nacht“
DESCRIPTION:Vortrag des Freundeskreises der Ulmer und Neu-Ulmer Jägervereine\, „Hochwertige Optik für das Sehen bei Tag und Nacht“\, Hubert Witt\, Swarovski Optik\, Schützenheim Weißenhorn
URL:https://jagd-neu-ulm.de/event/vortrag-des-freundeskreises-der-ulmer-und-neu-ulmer-jaegervereine-hochwertige-optik-fuer-das-sehen-bei-tag-und-nacht/
LOCATION:Schützenheim Weissenhorn\, Metzgerweg 99\, Weißenhorn\, 89264
CATEGORIES:Veranstaltungen
END:VEVENT
BEGIN:VEVENT
DTSTART;TZID=UTC:20240914T133000
DTEND;TZID=UTC:20240914T170000
DTSTAMP:20260425T173157
CREATED:20240421T153041Z
LAST-MODIFIED:20240421T153041Z
UID:999-1726320600-1726333200@jagd-neu-ulm.de
SUMMARY:Jäger - Aufsichtenschießen
DESCRIPTION:Jäger – Aufsichtenschießen
URL:https://jagd-neu-ulm.de/event/jaeger-aufsichtenschiessen/
LOCATION:Tontaubenstand Unterroth\, 48°11'41.9"N 10°11'19.4"E\, Unterroth\, 89299
CATEGORIES:Schießtermine Flinte
END:VEVENT
BEGIN:VEVENT
DTSTART;TZID=UTC:20240915T090000
DTEND;TZID=UTC:20240915T120000
DTSTAMP:20260425T173157
CREATED:20240421T150035Z
LAST-MODIFIED:20240421T150035Z
UID:952-1726390800-1726401600@jagd-neu-ulm.de
SUMMARY:Freundschaftsschießen GZ/KRU/NU in Unterroth
DESCRIPTION:
URL:https://jagd-neu-ulm.de/event/freundschaftsschiessen-gz-kru-nu-in-unterroth/
LOCATION:Tontaubenstand Unterroth\, 48°11'41.9"N 10°11'19.4"E\, Unterroth\, 89299
CATEGORIES:Schießtermine Flinte,Veranstaltungen
END:VEVENT
BEGIN:VEVENT
DTSTART;TZID=UTC:20240915T090000
DTEND;TZID=UTC:20240915T120000
DTSTAMP:20260425T173157
CREATED:20240421T153122Z
LAST-MODIFIED:20240421T153122Z
UID:1001-1726390800-1726401600@jagd-neu-ulm.de
SUMMARY:Freundschaftsschießen KRU/GZ/NU
DESCRIPTION:Freundschaftsschießen KRU/GZ/NU
URL:https://jagd-neu-ulm.de/event/freundschaftsschiessen-kru-gz-nu/
LOCATION:Tontaubenstand Unterroth\, 48°11'41.9"N 10°11'19.4"E\, Unterroth\, 89299
CATEGORIES:Schießtermine Flinte
END:VEVENT
BEGIN:VEVENT
DTSTART;TZID=UTC:20240916T190000
DTEND;TZID=UTC:20240916T210000
DTSTAMP:20260425T173157
CREATED:20240421T150427Z
LAST-MODIFIED:20240421T150427Z
UID:956-1726513200-1726520400@jagd-neu-ulm.de
SUMMARY:Kurzwaffenschießen für Jäger 25 m
DESCRIPTION:Kurzwaffenschießen für Jäger 25 m
URL:https://jagd-neu-ulm.de/event/kurzwaffenschiessen-fuer-jaeger-25-m/
CATEGORIES:Schießtermine Kugel
END:VEVENT
BEGIN:VEVENT
DTSTART;TZID=UTC:20240922T090000
DTEND;TZID=UTC:20240922T120000
DTSTAMP:20260425T173157
CREATED:20240421T153204Z
LAST-MODIFIED:20240421T153204Z
UID:1003-1726995600-1727006400@jagd-neu-ulm.de
SUMMARY:Tontauben Schützen
DESCRIPTION:Tontauben Schützen
URL:https://jagd-neu-ulm.de/event/tontauben-schuetzen-6/
LOCATION:Tontaubenstand Unterroth\, 48°11'41.9"N 10°11'19.4"E\, Unterroth\, 89299
CATEGORIES:Schießtermine Flinte
END:VEVENT
END:VCALENDAR