BEGIN:VCALENDAR
VERSION:2.0
PRODID:-//Kreisgruppe Neu-Ulm - ECPv6.15.20//NONSGML v1.0//EN
CALSCALE:GREGORIAN
METHOD:PUBLISH
X-ORIGINAL-URL:https://jagd-neu-ulm.de
X-WR-CALDESC:Veranstaltungen für Kreisgruppe Neu-Ulm
REFRESH-INTERVAL;VALUE=DURATION:PT1H
X-Robots-Tag:noindex
X-PUBLISHED-TTL:PT1H
BEGIN:VTIMEZONE
TZID:UTC
BEGIN:STANDARD
TZOFFSETFROM:+0000
TZOFFSETTO:+0000
TZNAME:UTC
DTSTART:20230101T000000
END:STANDARD
END:VTIMEZONE
BEGIN:VEVENT
DTSTART;TZID=UTC:20240601T133000
DTEND;TZID=UTC:20240601T170000
DTSTAMP:20260425T215342
CREATED:20240421T151247Z
LAST-MODIFIED:20240421T151247Z
UID:971-1717248600-1717261200@jagd-neu-ulm.de
SUMMARY:Jäger Frauenschießen
DESCRIPTION:Jäger Frauenschießen
URL:https://jagd-neu-ulm.de/event/jaeger-frauenschiessen/
LOCATION:Tontaubenstand Unterroth\, 48°11'41.9"N 10°11'19.4"E\, Unterroth\, 89299
CATEGORIES:Schießtermine Flinte
END:VEVENT
BEGIN:VEVENT
DTSTART;VALUE=DATE:20240602
DTEND;VALUE=DATE:20240603
DTSTAMP:20260425T215342
CREATED:20240301T070910Z
LAST-MODIFIED:20240301T070910Z
UID:893-1717286400-1717372799@jagd-neu-ulm.de
SUMMARY:Feier zum 70-jährigen Jubiläum der Bläsergruppe Nord
DESCRIPTION:Feier zum 70-jährigen Jubiläum der Bläsergruppe Nord
URL:https://jagd-neu-ulm.de/event/feier-zum-70-jaehrigen-jubilaeum-der-blaesergruppe-nord/
CATEGORIES:Veranstaltungen
END:VEVENT
BEGIN:VEVENT
DTSTART;TZID=UTC:20240607T183000
DTEND;TZID=UTC:20240607T220000
DTSTAMP:20260425T215342
CREATED:20240528T080207Z
LAST-MODIFIED:20240528T080207Z
UID:1093-1717785000-1717797600@jagd-neu-ulm.de
SUMMARY:Freundschaftsschiessen mit Grillfest
DESCRIPTION:Freundschaftsschiessen \nder Jäger findet am 07.06.2024 18:30 Uhr im Schützenheim statt. Die Schützenscheibe wird von Harald Jehle gemalt und der Gewinner des Vergleichsschiessens wird mit einem weiteren Geschenk belohnt. \nFür das leibliche Wohl mit selbstgemachten Salaten und Steaks vom Grill ist natürlich gesorgt.
URL:https://jagd-neu-ulm.de/event/freundschaftsschiessen-mit-grillfest/
LOCATION:Schützenheim Weissenhorn\, Metzgerweg 99\, Weißenhorn\, 89264
CATEGORIES:Veranstaltungen
END:VEVENT
BEGIN:VEVENT
DTSTART;TZID=UTC:20240609T090000
DTEND;TZID=UTC:20240609T120000
DTSTAMP:20260425T215342
CREATED:20240421T151343Z
LAST-MODIFIED:20240421T151343Z
UID:973-1717923600-1717934400@jagd-neu-ulm.de
SUMMARY:Tontauben Schützen
DESCRIPTION:Tontauben Schützen
URL:https://jagd-neu-ulm.de/event/tontauben-schuetzen/
LOCATION:Tontaubenstand Unterroth\, 48°11'41.9"N 10°11'19.4"E\, Unterroth\, 89299
CATEGORIES:Schießtermine Flinte
END:VEVENT
BEGIN:VEVENT
DTSTART;VALUE=DATE:20240616
DTEND;VALUE=DATE:20240617
DTSTAMP:20260425T215342
CREATED:20240301T071118Z
LAST-MODIFIED:20240301T071118Z
UID:897-1718496000-1718582399@jagd-neu-ulm.de
SUMMARY:Prüfung Hundeführer-Lehrgang
DESCRIPTION:Prüfung Hundeführer-Lehrgang
URL:https://jagd-neu-ulm.de/event/pruefung-hundefuehrer-lehrgang/
CATEGORIES:Hundeausbildung
END:VEVENT
BEGIN:VEVENT
DTSTART;TZID=UTC:20240616T090000
DTEND;TZID=UTC:20240616T120000
DTSTAMP:20260425T215342
CREATED:20240421T151435Z
LAST-MODIFIED:20240421T151435Z
UID:975-1718528400-1718539200@jagd-neu-ulm.de
SUMMARY:Tontauben Jäger
DESCRIPTION:Tontauben Jäger
URL:https://jagd-neu-ulm.de/event/tontauben-jaeger/
LOCATION:Tontaubenstand Unterroth\, 48°11'41.9"N 10°11'19.4"E\, Unterroth\, 89299
CATEGORIES:Schießtermine Flinte
END:VEVENT
BEGIN:VEVENT
DTSTART;TZID=UTC:20240623T090000
DTEND;TZID=UTC:20240623T120000
DTSTAMP:20260425T215342
CREATED:20240421T151526Z
LAST-MODIFIED:20240421T151526Z
UID:977-1719133200-1719144000@jagd-neu-ulm.de
SUMMARY:Tontauben Schützen
DESCRIPTION:Tontauben Schützen
URL:https://jagd-neu-ulm.de/event/tontauben-schuetzen-2/
LOCATION:Tontaubenstand Unterroth\, 48°11'41.9"N 10°11'19.4"E\, Unterroth\, 89299
CATEGORIES:Schießtermine Flinte
END:VEVENT
BEGIN:VEVENT
DTSTART;TZID=UTC:20240629T090000
DTEND;TZID=UTC:20240629T130000
DTSTAMP:20260425T215342
CREATED:20240421T151609Z
LAST-MODIFIED:20240421T151609Z
UID:979-1719651600-1719666000@jagd-neu-ulm.de
SUMMARY:Aufräumen alle
DESCRIPTION:Aufräumen alle
URL:https://jagd-neu-ulm.de/event/aufraeumen-alle/
LOCATION:Tontaubenstand Unterroth\, 48°11'41.9"N 10°11'19.4"E\, Unterroth\, 89299
CATEGORIES:Schießtermine Flinte
END:VEVENT
BEGIN:VEVENT
DTSTART;TZID=UTC:20240630T090000
DTEND;TZID=UTC:20240630T120000
DTSTAMP:20260425T215342
CREATED:20240421T151748Z
LAST-MODIFIED:20240421T151748Z
UID:981-1719738000-1719748800@jagd-neu-ulm.de
SUMMARY:Tontauben Jäger
DESCRIPTION:Tontauben Jäger
URL:https://jagd-neu-ulm.de/event/tontauben-jaeger-2/
LOCATION:Tontaubenstand Unterroth\, 48°11'41.9"N 10°11'19.4"E\, Unterroth\, 89299
CATEGORIES:Schießtermine Flinte
END:VEVENT
END:VCALENDAR