BEGIN:VCALENDAR
VERSION:2.0
PRODID:-//Kreisgruppe Neu-Ulm - ECPv6.15.20//NONSGML v1.0//EN
CALSCALE:GREGORIAN
METHOD:PUBLISH
X-WR-CALNAME:Kreisgruppe Neu-Ulm
X-ORIGINAL-URL:https://jagd-neu-ulm.de
X-WR-CALDESC:Veranstaltungen für Kreisgruppe Neu-Ulm
REFRESH-INTERVAL;VALUE=DURATION:PT1H
X-Robots-Tag:noindex
X-PUBLISHED-TTL:PT1H
BEGIN:VTIMEZONE
TZID:UTC
BEGIN:STANDARD
TZOFFSETFROM:+0000
TZOFFSETTO:+0000
TZNAME:UTC
DTSTART:20230101T000000
END:STANDARD
END:VTIMEZONE
BEGIN:VEVENT
DTSTART;TZID=UTC:20240301T180000
DTEND;TZID=UTC:20240301T190000
DTSTAMP:20260426T021750
CREATED:20231228T075628Z
LAST-MODIFIED:20231228T075628Z
UID:541-1709316000-1709319600@jagd-neu-ulm.de
SUMMARY:Schießen Büchse 100m
DESCRIPTION:Schießen Büchse 100m
URL:https://jagd-neu-ulm.de/event/schiessen-buechse-100m-2/
LOCATION:Schützenheim Weissenhorn\, Metzgerweg 99\, Weißenhorn\, 89264
CATEGORIES:Schießtermine Kugel
END:VEVENT
BEGIN:VEVENT
DTSTART;TZID=UTC:20240301T190000
DTEND;TZID=UTC:20240301T220000
DTSTAMP:20260426T021750
CREATED:20240205T161102Z
LAST-MODIFIED:20240205T161102Z
UID:862-1709319600-1709330400@jagd-neu-ulm.de
SUMMARY:Jägerstammtisch im Schützenheim mit Vortrag
DESCRIPTION:Jägerstammtisch im Schützenheim mit Vortrag „Über die Nachsuche\, alles was der Jäger wissen muss“ von Rudi Brandl\, Förster der Bayerischen Forstverwaltung\, Dozent an der Hochschule Weihenstephan\, Züchter und Nachsuchenführer
URL:https://jagd-neu-ulm.de/event/jaegerstammtisch-im-schuetzenheim-mit-vortrag/
LOCATION:Schützenheim Weissenhorn\, Metzgerweg 99\, Weißenhorn\, 89264
CATEGORIES:Veranstaltungen
END:VEVENT
BEGIN:VEVENT
DTSTART;TZID=UTC:20240304T190000
DTEND;TZID=UTC:20240304T210000
DTSTAMP:20260426T021750
CREATED:20231228T075725Z
LAST-MODIFIED:20240205T160836Z
UID:543-1709578800-1709586000@jagd-neu-ulm.de
SUMMARY:Montagsschießen Büchse 100m
DESCRIPTION:Montagsschießen Büchse 100m
URL:https://jagd-neu-ulm.de/event/montagsschiessen-buechse-100m-4/
LOCATION:Schützenheim Weissenhorn\, Metzgerweg 99\, Weißenhorn\, 89264
CATEGORIES:Schießtermine Kugel
END:VEVENT
BEGIN:VEVENT
DTSTART;VALUE=DATE:20240309
DTEND;VALUE=DATE:20240310
DTSTAMP:20260426T021750
CREATED:20240205T161138Z
LAST-MODIFIED:20240205T161138Z
UID:864-1709942400-1710028799@jagd-neu-ulm.de
SUMMARY:Landesversammlung des Bayerischen Jagdverbandes in Füssen
DESCRIPTION:Landesversammlung des Bayerischen Jagdverbandes in Füssen
URL:https://jagd-neu-ulm.de/event/landesversammlung-des-bayerischen-jagdverbandes-in-fuessen/
CATEGORIES:Veranstaltungen
END:VEVENT
BEGIN:VEVENT
DTSTART;TZID=UTC:20240309T090000
DTEND;TZID=UTC:20240309T130000
DTSTAMP:20260426T021750
CREATED:20231228T074043Z
LAST-MODIFIED:20231228T074043Z
UID:533-1709974800-1709989200@jagd-neu-ulm.de
SUMMARY:Aufräumen - Schützen und Jäger
DESCRIPTION:Aufräumen – Schützen und Jäger
URL:https://jagd-neu-ulm.de/event/aufraeumen-schuetzen-und-jaeger/
LOCATION:Tontaubenstand Unterroth\, 48°11'41.9"N 10°11'19.4"E\, Unterroth\, 89299
CATEGORIES:Schießtermine Flinte
END:VEVENT
BEGIN:VEVENT
DTSTART;TZID=UTC:20240316T090000
DTEND;TZID=UTC:20240316T170000
DTSTAMP:20260426T021750
CREATED:20240205T161223Z
LAST-MODIFIED:20240205T161223Z
UID:866-1710579600-1710608400@jagd-neu-ulm.de
SUMMARY:Kursbeginn Jägerausbildung
DESCRIPTION:Kursbeginn Jägerausbildung \nAnmeldung beim 1. Vorsitzenden oder beim Ausbildungsleite
URL:https://jagd-neu-ulm.de/event/kursbeginn-jaegerausbildung/
CATEGORIES:Veranstaltungen
END:VEVENT
BEGIN:VEVENT
DTSTART;VALUE=DATE:20240317
DTEND;VALUE=DATE:20240318
DTSTAMP:20260426T021750
CREATED:20240205T161303Z
LAST-MODIFIED:20240205T161303Z
UID:868-1710633600-1710719999@jagd-neu-ulm.de
SUMMARY:2-Disziplinen-Schießen im MSZU
DESCRIPTION:2-Disziplinen-Schießen im MSZU mit den JV Ulm und Ehingen (200 m Gamsbock\, Laufender Keiler)\, Info und Anmeldung bei: schiessobmann@jaeger-ulm.de
URL:https://jagd-neu-ulm.de/event/2-disziplinen-schiessen-im-mszu/
CATEGORIES:Veranstaltungen
END:VEVENT
BEGIN:VEVENT
DTSTART;TZID=UTC:20240317T090000
DTEND;TZID=UTC:20240317T120000
DTSTAMP:20260426T021750
CREATED:20231228T074925Z
LAST-MODIFIED:20231228T074925Z
UID:535-1710666000-1710676800@jagd-neu-ulm.de
SUMMARY:Tontaubenschießen Schützen
DESCRIPTION:Tontaubenschießen Schützen
URL:https://jagd-neu-ulm.de/event/tontaubenschiessen-schuetzen/
LOCATION:Tontaubenstand Unterroth\, 48°11'41.9"N 10°11'19.4"E\, Unterroth\, 89299
CATEGORIES:Schießtermine Flinte
END:VEVENT
BEGIN:VEVENT
DTSTART;TZID=UTC:20240318T190000
DTEND;TZID=UTC:20240318T210000
DTSTAMP:20260426T021750
CREATED:20231228T075831Z
LAST-MODIFIED:20231228T075831Z
UID:545-1710788400-1710795600@jagd-neu-ulm.de
SUMMARY:Kurzwaffenschießen für Jäger 25m
DESCRIPTION:Kurzwaffenschießen für Jäger 25m
URL:https://jagd-neu-ulm.de/event/kurzwaffenschiessen-fuer-jaeger-25m/
LOCATION:Schützenheim Weissenhorn\, Metzgerweg 99\, Weißenhorn\, 89264
CATEGORIES:Schießtermine Kugel
END:VEVENT
BEGIN:VEVENT
DTSTART;TZID=UTC:20240323T090000
DTEND;TZID=UTC:20240323T170000
DTSTAMP:20260426T021750
CREATED:20231228T075023Z
LAST-MODIFIED:20231228T075023Z
UID:537-1711184400-1711213200@jagd-neu-ulm.de
SUMMARY:Tontaubenschießen Jungjäger
DESCRIPTION:Tontaubenschießen Jungjäger
URL:https://jagd-neu-ulm.de/event/tontaubenschiessen-jungjaeger/
CATEGORIES:Schießtermine Flinte
END:VEVENT
BEGIN:VEVENT
DTSTART;TZID=UTC:20240324T090000
DTEND;TZID=UTC:20240324T120000
DTSTAMP:20260426T021750
CREATED:20231228T075116Z
LAST-MODIFIED:20231228T154126Z
UID:539-1711270800-1711281600@jagd-neu-ulm.de
SUMMARY:Tontaubenschießen Jäger
DESCRIPTION:Tontaubenschießen Jäger
URL:https://jagd-neu-ulm.de/event/tontaubenschiessen-schuetzen-2/
CATEGORIES:Schießtermine Flinte
END:VEVENT
BEGIN:VEVENT
DTSTART;TZID=UTC:20240324T100000
DTEND;TZID=UTC:20240324T170000
DTSTAMP:20260426T021750
CREATED:20240223T175025Z
LAST-MODIFIED:20240223T175521Z
UID:887-1711274400-1711299600@jagd-neu-ulm.de
SUMMARY:Genussmarkt Senden
DESCRIPTION:Der Landkreis Neu-Ulm lädt zum zweiten GeNUssmarkt im und um das Bürgerhaus in Sen- den am Sonntag\, 24. März 2024\, von 10:00 bis 17:00 Uhr\, ein.\nZahlreiche regionale Anbieter präsentieren Ihre Spezialitäten.
URL:https://jagd-neu-ulm.de/event/genussmarkt-senden/
CATEGORIES:Veranstaltungen
END:VEVENT
END:VCALENDAR