BEGIN:VCALENDAR
VERSION:2.0
PRODID:-//Kreisgruppe Neu-Ulm - ECPv6.15.20//NONSGML v1.0//EN
CALSCALE:GREGORIAN
METHOD:PUBLISH
X-WR-CALNAME:Kreisgruppe Neu-Ulm
X-ORIGINAL-URL:https://jagd-neu-ulm.de
X-WR-CALDESC:Veranstaltungen für Kreisgruppe Neu-Ulm
REFRESH-INTERVAL;VALUE=DURATION:PT1H
X-Robots-Tag:noindex
X-PUBLISHED-TTL:PT1H
BEGIN:VTIMEZONE
TZID:UTC
BEGIN:STANDARD
TZOFFSETFROM:+0000
TZOFFSETTO:+0000
TZNAME:UTC
DTSTART:20230101T000000
END:STANDARD
END:VTIMEZONE
BEGIN:VEVENT
DTSTART;TZID=UTC:20240202T180000
DTEND;TZID=UTC:20240202T190000
DTSTAMP:20260426T034607
CREATED:20231228T073253Z
LAST-MODIFIED:20231228T073253Z
UID:527-1706896800-1706900400@jagd-neu-ulm.de
SUMMARY:Schießen Büchse 100m
DESCRIPTION:Schießen Büchse 100m
URL:https://jagd-neu-ulm.de/event/schiessen-buechse-100m/
LOCATION:Schützenheim Weissenhorn\, Metzgerweg 99\, Weißenhorn\, 89264
CATEGORIES:Schießtermine Kugel
END:VEVENT
BEGIN:VEVENT
DTSTART;TZID=UTC:20240202T190000
DTEND;TZID=UTC:20240202T220000
DTSTAMP:20260426T034607
CREATED:20231228T154812Z
LAST-MODIFIED:20231228T154812Z
UID:567-1706900400-1706911200@jagd-neu-ulm.de
SUMMARY:Jägerstammtisch mit Vortrag
DESCRIPTION:Jägerstammtisch mit Vortrag „Grundlagen und Aktuelles zum Waffenrecht\, Beurteilung der Zuverlässigkeit u.v.m.“ von Prof. Dr. Dr. mult. Hilmar Brunner\, Hochschule des Bundes für öffentliche Verwaltung.
URL:https://jagd-neu-ulm.de/event/jaegerstammtisch-mit-vortrag/
LOCATION:Schützenheim Weissenhorn\, Metzgerweg 99\, Weißenhorn\, 89264
END:VEVENT
BEGIN:VEVENT
DTSTART;TZID=UTC:20240205T190000
DTEND;TZID=UTC:20240205T210000
DTSTAMP:20260426T034607
CREATED:20231228T073434Z
LAST-MODIFIED:20231228T073434Z
UID:529-1707159600-1707166800@jagd-neu-ulm.de
SUMMARY:Montagsschießen  Büchse 100m
DESCRIPTION:Montagsschießen Büchse 100m
URL:https://jagd-neu-ulm.de/event/montagsschiessen-buechse-100m-2/
LOCATION:Schützenheim Weissenhorn\, Metzgerweg 99\, Weißenhorn\, 89264
CATEGORIES:Schießtermine Kugel
END:VEVENT
BEGIN:VEVENT
DTSTART;TZID=UTC:20240219T190000
DTEND;TZID=UTC:20240219T210000
DTSTAMP:20260426T034607
CREATED:20231228T073519Z
LAST-MODIFIED:20240205T160829Z
UID:531-1708369200-1708376400@jagd-neu-ulm.de
SUMMARY:Montagsschießen  Büchse 100m
DESCRIPTION:Montagsschießen Büchse 100m
URL:https://jagd-neu-ulm.de/event/montagsschiessen-buechse-100m-3/
LOCATION:Schützenheim Weissenhorn\, Metzgerweg 99\, Weißenhorn\, 89264
CATEGORIES:Schießtermine Kugel
END:VEVENT
END:VCALENDAR