BEGIN:VCALENDAR
VERSION:2.0
PRODID:-//Kreisgruppe Neu-Ulm - ECPv6.15.20//NONSGML v1.0//EN
CALSCALE:GREGORIAN
METHOD:PUBLISH
X-ORIGINAL-URL:https://jagd-neu-ulm.de
X-WR-CALDESC:Veranstaltungen für Kreisgruppe Neu-Ulm
REFRESH-INTERVAL;VALUE=DURATION:PT1H
X-Robots-Tag:noindex
X-PUBLISHED-TTL:PT1H
BEGIN:VTIMEZONE
TZID:UTC
BEGIN:STANDARD
TZOFFSETFROM:+0000
TZOFFSETTO:+0000
TZNAME:UTC
DTSTART:20250101T000000
END:STANDARD
END:VTIMEZONE
BEGIN:VEVENT
DTSTART;TZID=UTC:20260225T190000
DTEND;TZID=UTC:20260225T210000
DTSTAMP:20260424T154740
CREATED:20260119T063804Z
LAST-MODIFIED:20260119T063810Z
UID:1793-1772046000-1772053200@jagd-neu-ulm.de
SUMMARY:Rehwildmanagement - Wanderung\, Lernverhalten und das daraus resultierende Bejagungskonzept
DESCRIPTION:19:00 Uhr Rudi Brandl\, Thema: Rehwildmanagement – Wanderung\, Lernverhalten und das daraus resultierende Bejagungskonzept Ort: Schützenheim Weissenhorn\, Herr Rudi Brandl\, Förster bei der Bayrischen Forstverwaltung\, Dozent an der Hochschule Weihenstephan\, Züchter und Nachsuchenführer \nAnmeldung bitte unter joern.krohn@jagd-neu-ulm.de
URL:https://jagd-neu-ulm.de/event/rehwildmanagement-wanderung-lernverhalten-und-das-daraus-resultierende-bejagungskonzept/
CATEGORIES:Veranstaltungen
END:VEVENT
END:VCALENDAR