BEGIN:VCALENDAR
VERSION:2.0
PRODID:-//Kreisgruppe Neu-Ulm - ECPv6.15.20//NONSGML v1.0//EN
CALSCALE:GREGORIAN
METHOD:PUBLISH
X-WR-CALNAME:Kreisgruppe Neu-Ulm
X-ORIGINAL-URL:https://jagd-neu-ulm.de
X-WR-CALDESC:Veranstaltungen für Kreisgruppe Neu-Ulm
REFRESH-INTERVAL;VALUE=DURATION:PT1H
X-Robots-Tag:noindex
X-PUBLISHED-TTL:PT1H
BEGIN:VTIMEZONE
TZID:UTC
BEGIN:STANDARD
TZOFFSETFROM:+0000
TZOFFSETTO:+0000
TZNAME:UTC
DTSTART:20250101T000000
END:STANDARD
END:VTIMEZONE
BEGIN:VEVENT
DTSTART;TZID=UTC:20260128T190000
DTEND;TZID=UTC:20260128T210000
DTSTAMP:20260424T170132
CREATED:20260119T063141Z
LAST-MODIFIED:20260127T113949Z
UID:1787-1769626800-1769634000@jagd-neu-ulm.de
SUMMARY:Erfolgreiche Raubwildbejagung
DESCRIPTION:19:00 Uhr Christian Hembes\, Thema: Erfolgreiche Raubwildbejagung\, Ort: Schützenheim Weissenhorn\, Herr Christian Hembes ist Berufsjäger aus Jettingen Scheppach und begleitet die Kreisgruppe Neu-Ulm bei den Bemühungen um die Niederwildhege. \nAnmeldung bitte unter joern.krohn@jagd-neu-ulm.de
URL:https://jagd-neu-ulm.de/event/erfolgreiche-raubwildbejagung/
LOCATION:Schützenheim Weissenhorn\, Metzgerweg 99\, Weißenhorn\, 89264
CATEGORIES:Veranstaltungen
END:VEVENT
END:VCALENDAR