BEGIN:VCALENDAR
VERSION:2.0
PRODID:-//Kreisgruppe Neu-Ulm - ECPv6.15.20//NONSGML v1.0//EN
CALSCALE:GREGORIAN
METHOD:PUBLISH
X-ORIGINAL-URL:https://jagd-neu-ulm.de
X-WR-CALDESC:Veranstaltungen für Kreisgruppe Neu-Ulm
REFRESH-INTERVAL;VALUE=DURATION:PT1H
X-Robots-Tag:noindex
X-PUBLISHED-TTL:PT1H
BEGIN:VTIMEZONE
TZID:UTC
BEGIN:STANDARD
TZOFFSETFROM:+0000
TZOFFSETTO:+0000
TZNAME:UTC
DTSTART:20240101T000000
END:STANDARD
END:VTIMEZONE
BEGIN:VEVENT
DTSTART;TZID=UTC:20250927T090000
DTEND;TZID=UTC:20250927T160000
DTSTAMP:20260425T004247
CREATED:20250902T064017Z
LAST-MODIFIED:20250925T114623Z
UID:1674-1758963600-1758988800@jagd-neu-ulm.de
SUMMARY:Kurs zur Fallenjagd
DESCRIPTION:Liebe Jägerinnen\, liebe Jäger\, \nMichael und ich möchten euch einen neuen Fallenkurs anbieten. Die Kenntnis in der Fallenjagd ist umso wichtiger\, als dass  wir damit die Bemühungen der Niederwildhege\, insbesondere des Flugwilds\, unterstützen wollen. \nUnser Ausbildungsraum fasst max. 40 Personen (dann wirds aber auch schon wirklich eng :-)). Abzgl. der 8 Jagdschüler stehen somit 32 Plätze zur Verfügung. \nTermin 27.09.2025  \nOrt Ausbildungsraum der Jagdschule\, Metzgerweg 99\, im Schützenheim der Königlich priv. Schützengesellschaft Weissenhorn \nUhrzeit 09:00 – ca. 16:00 Uhr \nReferent: Michael Sellerer \nTeilnahmegebühr 25\,-€/Teilnehmer für die Kreisgruppe (ausser Jagdschüler)  \nJeder Kursteilnehmer (ausser Jagdschüler) erhält eine Urkunde als Teilnahmebestätigung \nWir freuen uns auf eine rege Teilnahme. \nMit Waidmannsheil \nJörn-Peter Krohn
URL:https://jagd-neu-ulm.de/event/kurs-zur-fallenjagd/
LOCATION:Schützenheim Weissenhorn\, Metzgerweg 99\, Weißenhorn\, 89264
CATEGORIES:Veranstaltungen
END:VEVENT
END:VCALENDAR