BEGIN:VCALENDAR
VERSION:2.0
PRODID:-//Kreisgruppe Neu-Ulm - ECPv6.15.20//NONSGML v1.0//EN
CALSCALE:GREGORIAN
METHOD:PUBLISH
X-WR-CALNAME:Kreisgruppe Neu-Ulm
X-ORIGINAL-URL:https://jagd-neu-ulm.de
X-WR-CALDESC:Veranstaltungen für Kreisgruppe Neu-Ulm
REFRESH-INTERVAL;VALUE=DURATION:PT1H
X-Robots-Tag:noindex
X-PUBLISHED-TTL:PT1H
BEGIN:VTIMEZONE
TZID:UTC
BEGIN:STANDARD
TZOFFSETFROM:+0000
TZOFFSETTO:+0000
TZNAME:UTC
DTSTART:20240101T000000
END:STANDARD
END:VTIMEZONE
BEGIN:VEVENT
DTSTART;TZID=UTC:20250704T183000
DTEND;TZID=UTC:20250704T230000
DTSTAMP:20260425T033431
CREATED:20250612T084503Z
LAST-MODIFIED:20250612T084643Z
UID:1597-1751653800-1751670000@jagd-neu-ulm.de
SUMMARY:Sommerfest
DESCRIPTION:LIEBE MITGLIEDER\, FREUNDE UND UNTERSTÜTZER\, wir laden herzlich ein zum gemeinsamen Sommerfest der\nkönigl. priv. Schützengesellschaft Weißenhorn e.V.\nund der BJV Kreisgruppe Neu-Ulm e.V.
URL:https://jagd-neu-ulm.de/event/sommerfest/
LOCATION:Schützenheim Weissenhorn\, Metzgerweg 99\, Weißenhorn\, 89264
CATEGORIES:Veranstaltungen
END:VEVENT
END:VCALENDAR