BEGIN:VCALENDAR
VERSION:2.0
PRODID:-//Kreisgruppe Neu-Ulm - ECPv6.15.20//NONSGML v1.0//EN
CALSCALE:GREGORIAN
METHOD:PUBLISH
X-WR-CALNAME:Kreisgruppe Neu-Ulm
X-ORIGINAL-URL:https://jagd-neu-ulm.de
X-WR-CALDESC:Veranstaltungen für Kreisgruppe Neu-Ulm
REFRESH-INTERVAL;VALUE=DURATION:PT1H
X-Robots-Tag:noindex
X-PUBLISHED-TTL:PT1H
BEGIN:VTIMEZONE
TZID:UTC
BEGIN:STANDARD
TZOFFSETFROM:+0000
TZOFFSETTO:+0000
TZNAME:UTC
DTSTART:20240101T000000
END:STANDARD
END:VTIMEZONE
BEGIN:VEVENT
DTSTART;VALUE=DATE:20250221
DTEND;VALUE=DATE:20250222
DTSTAMP:20260425T113333
CREATED:20250105T150952Z
LAST-MODIFIED:20250105T150952Z
UID:1323-1740096000-1740182399@jagd-neu-ulm.de
SUMMARY:Busfahrt zur diesjährigen Messe Hohe Jagd und Fischerei nach Salzburg
DESCRIPTION:Liebe Jägerinnen\, liebe Jäger\, \nwir haben dieses Jahr wieder mit der benachbarten Kreisgruppe Günzburg\, genauer mit der Hegegemeinschaft Ichenhausen Kontakt aufgenommen\, um gemeinsam eine Busfahrt zur diesjährigen Messe Hohe Jagd und Fischerei nach Salzburg zu organisieren. Erfreulicher Weise sind die Günzburger auch wieder interessiert und wir können gemeinsam folgende Reise anbieten. \nFreitag\, 21.02.2025\nAbfahrt: 05.45 Uhr in Großkötz an der Günzhalle (Am Günzbach 1\, 89359 Großkötz)\nAnkunft Messe: gegen 09.30 Uhr\nAbfahrt Messe: ca. 15.00 Uhr\nAnkunft Großkötz: ca. 19.30 Uhr \nKosten: 55\,00 €/Person (Busfahrt\, kleines Frühstück\, Eintrittskarte)\nÄnderung bei geringer Beteiligung vorbehalten. Bezahlt wird im Bus \nWir fahren in einem modernen Reisebus der Firma Dirr Reisen aus Jettingen. \nAnmeldungen werden unter jannik.lindner@jagd-neu-ulm.de oder 0151/74247762 (Jannik Lindner\, Anruf/SMS/WhatsApp) gerne bis einschl. Sonntag 12.01.2025 angenommen. \nDiese Reise bietet allen Mitglieder einen angenehmen Zugang zur traditionsreichen Jagdmesse in Salzburg. Über eine rege Teilnahme würden sich alle Kreisgruppen sehr freuen.
URL:https://jagd-neu-ulm.de/event/busfahrt-zur-diesjaehrigen-messe-hohe-jagd-und-fischerei-nach-salzburg/
CATEGORIES:Veranstaltungen
END:VEVENT
END:VCALENDAR