BEGIN:VCALENDAR
VERSION:2.0
PRODID:-//Kreisgruppe Neu-Ulm - ECPv6.15.20//NONSGML v1.0//EN
CALSCALE:GREGORIAN
METHOD:PUBLISH
X-ORIGINAL-URL:https://jagd-neu-ulm.de
X-WR-CALDESC:Veranstaltungen für Kreisgruppe Neu-Ulm
REFRESH-INTERVAL;VALUE=DURATION:PT1H
X-Robots-Tag:noindex
X-PUBLISHED-TTL:PT1H
BEGIN:VTIMEZONE
TZID:UTC
BEGIN:STANDARD
TZOFFSETFROM:+0000
TZOFFSETTO:+0000
TZNAME:UTC
DTSTART:20230101T000000
END:STANDARD
END:VTIMEZONE
BEGIN:VEVENT
DTSTART;TZID=UTC:20241030T190000
DTEND;TZID=UTC:20241030T210000
DTSTAMP:20260425T160356
CREATED:20241010T071952Z
LAST-MODIFIED:20241010T072048Z
UID:1230-1730314800-1730322000@jagd-neu-ulm.de
SUMMARY:Infoabend Brauchbarkeitskurs Jagdhundeausbildung
DESCRIPTION:Liebe Jägerinnen\, liebe Jäger\, \nam Mittwoch 30.10.2024 um 19:00 Uhr findet im Schützenheim der Königl. Priv. Schützengesellschaft Weissenhorn ein Infoabend über den nächsten Vorbereitungskurs für die Brauchbarkeitsprüfung statt. \nWir freuen uns auf interessierte Teilnehmer.
URL:https://jagd-neu-ulm.de/event/infoabend-brauchbarkeitskurs-jagdhundeausbildung/
LOCATION:Schützenheim Weissenhorn\, Metzgerweg 99\, Weißenhorn\, 89264
CATEGORIES:Hundeausbildung
END:VEVENT
END:VCALENDAR