BEGIN:VCALENDAR
VERSION:2.0
PRODID:-//Kreisgruppe Neu-Ulm - ECPv6.15.20//NONSGML v1.0//EN
CALSCALE:GREGORIAN
METHOD:PUBLISH
X-WR-CALNAME:Kreisgruppe Neu-Ulm
X-ORIGINAL-URL:https://jagd-neu-ulm.de
X-WR-CALDESC:Veranstaltungen für Kreisgruppe Neu-Ulm
REFRESH-INTERVAL;VALUE=DURATION:PT1H
X-Robots-Tag:noindex
X-PUBLISHED-TTL:PT1H
BEGIN:VTIMEZONE
TZID:UTC
BEGIN:STANDARD
TZOFFSETFROM:+0000
TZOFFSETTO:+0000
TZNAME:UTC
DTSTART:20230101T000000
END:STANDARD
END:VTIMEZONE
BEGIN:VEVENT
DTSTART;TZID=UTC:20241028T080000
DTEND;TZID=UTC:20241028T170000
DTSTAMP:20260425T160020
CREATED:20241009T125503Z
LAST-MODIFIED:20241009T125504Z
UID:1225-1730102400-1730134800@jagd-neu-ulm.de
SUMMARY:12. Weissenhorner Wildschmankerl
DESCRIPTION:
URL:https://jagd-neu-ulm.de/event/12-weissenhorner-wildschmankerl/
CATEGORIES:Veranstaltungen
END:VEVENT
END:VCALENDAR