BEGIN:VCALENDAR
VERSION:2.0
PRODID:-//Kreisgruppe Neu-Ulm - ECPv6.15.20//NONSGML v1.0//EN
CALSCALE:GREGORIAN
METHOD:PUBLISH
X-WR-CALNAME:Kreisgruppe Neu-Ulm
X-ORIGINAL-URL:https://jagd-neu-ulm.de
X-WR-CALDESC:Veranstaltungen für Kreisgruppe Neu-Ulm
REFRESH-INTERVAL;VALUE=DURATION:PT1H
X-Robots-Tag:noindex
X-PUBLISHED-TTL:PT1H
BEGIN:VTIMEZONE
TZID:UTC
BEGIN:STANDARD
TZOFFSETFROM:+0000
TZOFFSETTO:+0000
TZNAME:UTC
DTSTART:20230101T000000
END:STANDARD
END:VTIMEZONE
BEGIN:VEVENT
DTSTART;TZID=UTC:20241026T070000
DTEND;TZID=UTC:20241026T130000
DTSTAMP:20260425T173124
CREATED:20241014T095332Z
LAST-MODIFIED:20241014T095531Z
UID:1245-1729926000-1729947600@jagd-neu-ulm.de
SUMMARY:Pirsch durch die Stadt
DESCRIPTION:Jäger des Landkreises Neu-Ulm werden auf dem Wochenmarkt Neu-Ulm zu Gast sein. Es kommt die Bläsergruppe und der Verkaufswagen mit Wildbret. Dieses ist eine Aktion der Stadtverwaltung und der Wochemmarktbeschicker
URL:https://jagd-neu-ulm.de/event/pirsch-durch-die-stadt/
LOCATION:Petrusplatz Neu-Ulm\, Petrusplatz\, Neu-Ulm\, 89231\, Germany
CATEGORIES:Veranstaltungen
END:VEVENT
END:VCALENDAR