BEGIN:VCALENDAR
VERSION:2.0
PRODID:-//Kreisgruppe Neu-Ulm - ECPv6.15.20//NONSGML v1.0//EN
CALSCALE:GREGORIAN
METHOD:PUBLISH
X-ORIGINAL-URL:https://jagd-neu-ulm.de
X-WR-CALDESC:Veranstaltungen für Kreisgruppe Neu-Ulm
REFRESH-INTERVAL;VALUE=DURATION:PT1H
X-Robots-Tag:noindex
X-PUBLISHED-TTL:PT1H
BEGIN:VTIMEZONE
TZID:UTC
BEGIN:STANDARD
TZOFFSETFROM:+0000
TZOFFSETTO:+0000
TZNAME:UTC
DTSTART:20230101T000000
END:STANDARD
END:VTIMEZONE
BEGIN:VEVENT
DTSTART;TZID=UTC:20240705T190000
DTEND;TZID=UTC:20240705T230000
DTSTAMP:20260425T215331
CREATED:20240301T071038Z
LAST-MODIFIED:20240301T071038Z
UID:895-1720206000-1720220400@jagd-neu-ulm.de
SUMMARY:Sommerschießen der Schützengesellschaft Weißenhorn
DESCRIPTION:Sommerschießen der Schützengesellschaft Weißenhorn mit kühlem Bier und heißem Angebot vom Grill
URL:https://jagd-neu-ulm.de/event/sommerschiessen-der-schuetzengesellschaft-weissenhorn/
LOCATION:Schützenheim Weissenhorn\, Metzgerweg 99\, Weißenhorn\, 89264
CATEGORIES:Veranstaltungen
END:VEVENT
END:VCALENDAR