BEGIN:VCALENDAR
VERSION:2.0
PRODID:-//Kreisgruppe Neu-Ulm - ECPv6.15.20//NONSGML v1.0//EN
CALSCALE:GREGORIAN
METHOD:PUBLISH
X-WR-CALNAME:Kreisgruppe Neu-Ulm
X-ORIGINAL-URL:https://jagd-neu-ulm.de
X-WR-CALDESC:Veranstaltungen für Kreisgruppe Neu-Ulm
REFRESH-INTERVAL;VALUE=DURATION:PT1H
X-Robots-Tag:noindex
X-PUBLISHED-TTL:PT1H
BEGIN:VTIMEZONE
TZID:UTC
BEGIN:STANDARD
TZOFFSETFROM:+0000
TZOFFSETTO:+0000
TZNAME:UTC
DTSTART:20230101T000000
END:STANDARD
END:VTIMEZONE
BEGIN:VEVENT
DTSTART;TZID=UTC:20240514T170000
DTEND;TZID=UTC:20240514T200000
DTSTAMP:20260426T005255
CREATED:20240301T070814Z
LAST-MODIFIED:20240301T070814Z
UID:889-1715706000-1715716800@jagd-neu-ulm.de
SUMMARY:Zerwirkkurs mit Josef Klein
DESCRIPTION:Zerwirkkurs mit Josef Klein\, in der Metzgerei Klein\, Hauptstraße 63\, 89278 Nersingen\, Teilnahmegebühr € 20\,-\, Anmeldung beim 1. Vorsitzenden
URL:https://jagd-neu-ulm.de/event/zerwirkkurs-mit-josef-klein/
LOCATION:Hauptstraße 63\, 89278 Nersingen\, Hauptstraße 63\, Nersingen\, 89278\, Deutschland
CATEGORIES:Veranstaltungen
END:VEVENT
END:VCALENDAR