BEGIN:VCALENDAR
VERSION:2.0
PRODID:-//Kreisgruppe Neu-Ulm - ECPv6.15.20//NONSGML v1.0//EN
CALSCALE:GREGORIAN
METHOD:PUBLISH
X-WR-CALNAME:Kreisgruppe Neu-Ulm
X-ORIGINAL-URL:https://jagd-neu-ulm.de
X-WR-CALDESC:Veranstaltungen für Kreisgruppe Neu-Ulm
REFRESH-INTERVAL;VALUE=DURATION:PT1H
X-Robots-Tag:noindex
X-PUBLISHED-TTL:PT1H
BEGIN:VTIMEZONE
TZID:UTC
BEGIN:STANDARD
TZOFFSETFROM:+0000
TZOFFSETTO:+0000
TZNAME:UTC
DTSTART:20230101T000000
END:STANDARD
END:VTIMEZONE
BEGIN:VEVENT
DTSTART;TZID=UTC:20240422T190000
DTEND;TZID=UTC:20240422T210000
DTSTAMP:20260426T021725
CREATED:20231228T153954Z
LAST-MODIFIED:20240205T160906Z
UID:552-1713812400-1713819600@jagd-neu-ulm.de
SUMMARY:Montagsschießen Büchse 100m
DESCRIPTION:Montagsschießen Büchse 100m
URL:https://jagd-neu-ulm.de/event/montagsschiessen-buechse-100m-6/
LOCATION:Schützenheim Weissenhorn\, Metzgerweg 99\, Weißenhorn\, 89264
CATEGORIES:Schießtermine Kugel
END:VEVENT
END:VCALENDAR