BEGIN:VCALENDAR
VERSION:2.0
PRODID:-//Kreisgruppe Neu-Ulm - ECPv6.15.20//NONSGML v1.0//EN
CALSCALE:GREGORIAN
METHOD:PUBLISH
X-WR-CALNAME:Kreisgruppe Neu-Ulm
X-ORIGINAL-URL:https://jagd-neu-ulm.de
X-WR-CALDESC:Veranstaltungen für Kreisgruppe Neu-Ulm
REFRESH-INTERVAL;VALUE=DURATION:PT1H
X-Robots-Tag:noindex
X-PUBLISHED-TTL:PT1H
BEGIN:VTIMEZONE
TZID:UTC
BEGIN:STANDARD
TZOFFSETFROM:+0000
TZOFFSETTO:+0000
TZNAME:UTC
DTSTART:20230101T000000
END:STANDARD
END:VTIMEZONE
BEGIN:VEVENT
DTSTART;TZID=UTC:20240316T090000
DTEND;TZID=UTC:20240316T170000
DTSTAMP:20260426T034433
CREATED:20240205T161223Z
LAST-MODIFIED:20240205T161223Z
UID:866-1710579600-1710608400@jagd-neu-ulm.de
SUMMARY:Kursbeginn Jägerausbildung
DESCRIPTION:Kursbeginn Jägerausbildung \nAnmeldung beim 1. Vorsitzenden oder beim Ausbildungsleite
URL:https://jagd-neu-ulm.de/event/kursbeginn-jaegerausbildung/
CATEGORIES:Veranstaltungen
END:VEVENT
END:VCALENDAR